BEGIN:VCALENDAR
VERSION:2.0
PRODID:-//Eerste Nederlandse Montessorischool - ECPv6.8.2.1//NONSGML v1.0//EN
CALSCALE:GREGORIAN
METHOD:PUBLISH
X-WR-CALNAME:Eerste Nederlandse Montessorischool
X-ORIGINAL-URL:https://www.enms.nl
X-WR-CALDESC:Evenementen voor Eerste Nederlandse Montessorischool
REFRESH-INTERVAL;VALUE=DURATION:PT1H
X-Robots-Tag:noindex
X-PUBLISHED-TTL:PT1H
BEGIN:VTIMEZONE
TZID:Europe/Amsterdam
BEGIN:DAYLIGHT
TZOFFSETFROM:+0100
TZOFFSETTO:+0200
TZNAME:CEST
DTSTART:20180325T010000
END:DAYLIGHT
BEGIN:STANDARD
TZOFFSETFROM:+0200
TZOFFSETTO:+0100
TZNAME:CET
DTSTART:20181028T010000
END:STANDARD
BEGIN:DAYLIGHT
TZOFFSETFROM:+0100
TZOFFSETTO:+0200
TZNAME:CEST
DTSTART:20190331T010000
END:DAYLIGHT
BEGIN:STANDARD
TZOFFSETFROM:+0200
TZOFFSETTO:+0100
TZNAME:CET
DTSTART:20191027T010000
END:STANDARD
END:VTIMEZONE
BEGIN:VEVENT
DTSTART;VALUE=DATE:20190530
DTEND;VALUE=DATE:20190603
DTSTAMP:20260424T151214
CREATED:20190509T114822Z
LAST-MODIFIED:20190509T114822Z
UID:1669-1559174400-1559519999@www.enms.nl
SUMMARY:Hemelvaartweekend
DESCRIPTION:
URL:https://www.enms.nl/agendapunt/hemelvaartweekend/
CATEGORIES:Jaarkalender
END:VEVENT
BEGIN:VEVENT
DTSTART;TZID=Europe/Amsterdam:20190523T083000
DTEND;TZID=Europe/Amsterdam:20190523T093000
DTSTAMP:20260424T151214
CREATED:20190516T145835Z
LAST-MODIFIED:20190516T145835Z
UID:1680-1558600200-1558603800@www.enms.nl
SUMMARY:Montessoricafé
DESCRIPTION:
URL:https://www.enms.nl/agendapunt/montessoricafe/
CATEGORIES:Jaarkalender
END:VEVENT
BEGIN:VEVENT
DTSTART;VALUE=DATE:20190522
DTEND;VALUE=DATE:20190607
DTSTAMP:20260424T151214
CREATED:20190418T090034Z
LAST-MODIFIED:20190514T070532Z
UID:1664-1558483200-1559865599@www.enms.nl
SUMMARY:Toetsperiode
DESCRIPTION:
URL:https://www.enms.nl/agendapunt/toetsperiode-4/
CATEGORIES:Jaarkalender
END:VEVENT
BEGIN:VEVENT
DTSTART;VALUE=DATE:20190520
DTEND;VALUE=DATE:20190521
DTSTAMP:20260424T151214
CREATED:20190418T085956Z
LAST-MODIFIED:20190418T085956Z
UID:1662-1558310400-1558396799@www.enms.nl
SUMMARY:BB-3 en BB-4 naar het Gemeentemuseum
DESCRIPTION:
URL:https://www.enms.nl/agendapunt/bb-3-en-bb-4-naar-het-gemeentemuseum/
CATEGORIES:Jaarkalender
END:VEVENT
BEGIN:VEVENT
DTSTART;TZID=Europe/Amsterdam:20190516T083000
DTEND;TZID=Europe/Amsterdam:20190516T093000
DTSTAMP:20260424T151214
CREATED:20190418T085851Z
LAST-MODIFIED:20190418T085851Z
UID:1660-1557995400-1557999000@www.enms.nl
SUMMARY:Montessori café
DESCRIPTION:
URL:https://www.enms.nl/agendapunt/montessori-cafe/
CATEGORIES:Jaarkalender
END:VEVENT
BEGIN:VEVENT
DTSTART;VALUE=DATE:20190509
DTEND;VALUE=DATE:20190510
DTSTAMP:20260424T151214
CREATED:20190418T085642Z
LAST-MODIFIED:20190418T085642Z
UID:1658-1557360000-1557446399@www.enms.nl
SUMMARY:Schoolreis groep 1 t/m 6
DESCRIPTION:
URL:https://www.enms.nl/agendapunt/schoolreis-groep-1-tm-6/
CATEGORIES:Jaarkalender
END:VEVENT
BEGIN:VEVENT
DTSTART;VALUE=DATE:20190506
DTEND;VALUE=DATE:20190511
DTSTAMP:20260424T151214
CREATED:20190418T085452Z
LAST-MODIFIED:20190418T085452Z
UID:1656-1557100800-1557532799@www.enms.nl
SUMMARY:Werkweek Wilhelminaoord groep 7 en 8
DESCRIPTION:
URL:https://www.enms.nl/agendapunt/werkweek-wilhelminaoord-groep-7-en-8/
CATEGORIES:Jaarkalender
END:VEVENT
BEGIN:VEVENT
DTSTART;VALUE=DATE:20190419
DTEND;VALUE=DATE:20190506
DTSTAMP:20260424T151214
CREATED:20190404T102101Z
LAST-MODIFIED:20190404T102101Z
UID:1650-1555632000-1557100799@www.enms.nl
SUMMARY:Meivakantie
DESCRIPTION:
URL:https://www.enms.nl/agendapunt/meivakantie-2/
CATEGORIES:Jaarkalender
END:VEVENT
BEGIN:VEVENT
DTSTART;VALUE=DATE:20190418
DTEND;VALUE=DATE:20190419
DTSTAMP:20260424T151214
CREATED:20190404T102023Z
LAST-MODIFIED:20190404T102023Z
UID:1648-1555545600-1555631999@www.enms.nl
SUMMARY:Paasontbijt
DESCRIPTION:
URL:https://www.enms.nl/agendapunt/paasontbijt/
CATEGORIES:Jaarkalender
END:VEVENT
BEGIN:VEVENT
DTSTART;VALUE=DATE:20190416
DTEND;VALUE=DATE:20190418
DTSTAMP:20260424T151214
CREATED:20190404T101955Z
LAST-MODIFIED:20190404T101955Z
UID:1646-1555372800-1555545599@www.enms.nl
SUMMARY:IEP Eindtoets groep 8
DESCRIPTION:
URL:https://www.enms.nl/agendapunt/iep-eindtoets-groep-8-2/
CATEGORIES:Jaarkalender
END:VEVENT
BEGIN:VEVENT
DTSTART;VALUE=DATE:20190416
DTEND;VALUE=DATE:20190417
DTSTAMP:20260424T151214
CREATED:20190404T101921Z
LAST-MODIFIED:20190404T101921Z
UID:1644-1555372800-1555459199@www.enms.nl
SUMMARY:Crea-ochtend Pasen
DESCRIPTION:
URL:https://www.enms.nl/agendapunt/crea-ochtend-pasen/
CATEGORIES:Jaarkalender
END:VEVENT
BEGIN:VEVENT
DTSTART;VALUE=DATE:20190412
DTEND;VALUE=DATE:20190413
DTSTAMP:20260424T151214
CREATED:20190307T122808Z
LAST-MODIFIED:20190307T122808Z
UID:1624-1555027200-1555113599@www.enms.nl
SUMMARY:Koningsspelen
DESCRIPTION:
URL:https://www.enms.nl/agendapunt/koningsspelen-2/
CATEGORIES:Jaarkalender
END:VEVENT
BEGIN:VEVENT
DTSTART;VALUE=DATE:20190410
DTEND;VALUE=DATE:20190412
DTSTAMP:20260424T151214
CREATED:20190307T122731Z
LAST-MODIFIED:20190307T122731Z
UID:1622-1554854400-1555027199@www.enms.nl
SUMMARY:Schoolfoto
DESCRIPTION:
URL:https://www.enms.nl/agendapunt/schoolfoto-2/
CATEGORIES:Jaarkalender
END:VEVENT
BEGIN:VEVENT
DTSTART;VALUE=DATE:20190409
DTEND;VALUE=DATE:20190410
DTSTAMP:20260424T151214
CREATED:20190307T122658Z
LAST-MODIFIED:20190307T122658Z
UID:1620-1554768000-1554854399@www.enms.nl
SUMMARY:BB-1 en BB-2 naar Gemeentemuseum
DESCRIPTION:
URL:https://www.enms.nl/agendapunt/bb-1-en-bb-2-naar-gemeentemuseum/
CATEGORIES:Jaarkalender
END:VEVENT
BEGIN:VEVENT
DTSTART;VALUE=DATE:20190405
DTEND;VALUE=DATE:20190406
DTSTAMP:20260424T151214
CREATED:20190307T122616Z
LAST-MODIFIED:20190307T122616Z
UID:1618-1554422400-1554508799@www.enms.nl
SUMMARY:Middenbouw naar Theater aan het Spui
DESCRIPTION:
URL:https://www.enms.nl/agendapunt/middenbouw-naar-theater-aan-het-spui/
CATEGORIES:Jaarkalender
END:VEVENT
BEGIN:VEVENT
DTSTART;VALUE=DATE:20190405
DTEND;VALUE=DATE:20190406
DTSTAMP:20260424T151214
CREATED:20190307T122545Z
LAST-MODIFIED:20190404T101817Z
UID:1616-1554422400-1554508799@www.enms.nl
SUMMARY:Verkeersexamen gr. 7 (theorie)
DESCRIPTION:
URL:https://www.enms.nl/agendapunt/verkeersexamen-gr-7-theorie/
CATEGORIES:Jaarkalender
END:VEVENT
BEGIN:VEVENT
DTSTART;TZID=Europe/Amsterdam:20190403T090000
DTEND;TZID=Europe/Amsterdam:20190403T103000
DTSTAMP:20260424T151214
CREATED:20190221T154044Z
LAST-MODIFIED:20190221T154044Z
UID:1610-1554282000-1554287400@www.enms.nl
SUMMARY:Informatieochtend aspirant ouders
DESCRIPTION:
URL:https://www.enms.nl/agendapunt/informatieochtend-aspirant-ouders-6/
CATEGORIES:Jaarkalender
END:VEVENT
BEGIN:VEVENT
DTSTART;VALUE=DATE:20190315
DTEND;VALUE=DATE:20190316
DTSTAMP:20260424T151214
CREATED:20190221T153944Z
LAST-MODIFIED:20190307T122434Z
UID:1608-1552608000-1552694399@www.enms.nl
SUMMARY:Stakingsdag; kinderen geen school
DESCRIPTION:
URL:https://www.enms.nl/agendapunt/stakingsdag-kinderen-vrij/
CATEGORIES:Jaarkalender
END:VEVENT
BEGIN:VEVENT
DTSTART;VALUE=DATE:20190311
DTEND;VALUE=DATE:20190315
DTSTAMP:20260424T151214
CREATED:20190131T093657Z
LAST-MODIFIED:20190221T154132Z
UID:1602-1552262400-1552607999@www.enms.nl
SUMMARY:Verslagweek
DESCRIPTION:
URL:https://www.enms.nl/agendapunt/verslagweek-3/
CATEGORIES:Jaarkalender
END:VEVENT
BEGIN:VEVENT
DTSTART;VALUE=DATE:20190310
DTEND;VALUE=DATE:20190311
DTSTAMP:20260424T151214
CREATED:20190131T093607Z
LAST-MODIFIED:20190131T093607Z
UID:1600-1552176000-1552262399@www.enms.nl
SUMMARY:CPC-Loop
DESCRIPTION:
URL:https://www.enms.nl/agendapunt/cpc-loop-2/
CATEGORIES:Jaarkalender
END:VEVENT
BEGIN:VEVENT
DTSTART;VALUE=DATE:20190225
DTEND;VALUE=DATE:20190302
DTSTAMP:20260424T151214
CREATED:20181219T112349Z
LAST-MODIFIED:20181219T112349Z
UID:1586-1551052800-1551484799@www.enms.nl
SUMMARY:Voorjaarsvakantie
DESCRIPTION:
URL:https://www.enms.nl/agendapunt/voorjaarsvakantie-2/
CATEGORIES:Jaarkalender
END:VEVENT
BEGIN:VEVENT
DTSTART;VALUE=DATE:20190222
DTEND;VALUE=DATE:20190223
DTSTAMP:20260424T151214
CREATED:20181219T112252Z
LAST-MODIFIED:20181219T112252Z
UID:1584-1550793600-1550879999@www.enms.nl
SUMMARY:Margedag groep 1 t/m 8; Studiedag team
DESCRIPTION:
URL:https://www.enms.nl/agendapunt/margedag-groep-1-tm-8-studiedag-team-4/
CATEGORIES:Jaarkalender
END:VEVENT
BEGIN:VEVENT
DTSTART;VALUE=DATE:20190214
DTEND;VALUE=DATE:20190215
DTSTAMP:20260424T151214
CREATED:20190131T093459Z
LAST-MODIFIED:20190131T093459Z
UID:1598-1550102400-1550188799@www.enms.nl
SUMMARY:Bovenbouw naar het Zuiderstrandtheater
DESCRIPTION:
URL:https://www.enms.nl/agendapunt/bovenbouw-naar-het-zuiderstrandtheater/
CATEGORIES:Jaarkalender
END:VEVENT
BEGIN:VEVENT
DTSTART;TZID=Europe/Amsterdam:20190206T090000
DTEND;TZID=Europe/Amsterdam:20190206T103000
DTSTAMP:20260424T151214
CREATED:20181219T112159Z
LAST-MODIFIED:20181219T112159Z
UID:1582-1549443600-1549449000@www.enms.nl
SUMMARY:Informatieochtend aspirant ouders
DESCRIPTION:
URL:https://www.enms.nl/agendapunt/informatieochtend-aspirant-ouders-5/
CATEGORIES:Jaarkalender
END:VEVENT
BEGIN:VEVENT
DTSTART;TZID=Europe/Amsterdam:20190124T193000
DTEND;TZID=Europe/Amsterdam:20190124T210000
DTSTAMP:20260424T151214
CREATED:20181206T092111Z
LAST-MODIFIED:20181206T092111Z
UID:1574-1548358200-1548363600@www.enms.nl
SUMMARY:Ouderavond
DESCRIPTION:
URL:https://www.enms.nl/agendapunt/ouderavond/
CATEGORIES:Jaarkalender
END:VEVENT
BEGIN:VEVENT
DTSTART;VALUE=DATE:20190121
DTEND;VALUE=DATE:20190202
DTSTAMP:20260424T151214
CREATED:20181206T091956Z
LAST-MODIFIED:20181206T091956Z
UID:1572-1548028800-1549065599@www.enms.nl
SUMMARY:Toetsperiode
DESCRIPTION:
URL:https://www.enms.nl/agendapunt/toetsperiode-3/
CATEGORIES:Jaarkalender
END:VEVENT
BEGIN:VEVENT
DTSTART;VALUE=DATE:20181224
DTEND;VALUE=DATE:20190105
DTSTAMP:20260424T151214
CREATED:20181101T120422Z
LAST-MODIFIED:20181101T120422Z
UID:1548-1545609600-1546646399@www.enms.nl
SUMMARY:Kerstvakantie
DESCRIPTION:
URL:https://www.enms.nl/agendapunt/kerstvakantie-2/
CATEGORIES:Jaarkalender
END:VEVENT
BEGIN:VEVENT
DTSTART;VALUE=DATE:20181221
DTEND;VALUE=DATE:20181222
DTSTAMP:20260424T151214
CREATED:20181101T120351Z
LAST-MODIFIED:20181101T120351Z
UID:1546-1545350400-1545436799@www.enms.nl
SUMMARY:Kinderen vanaf 12 uur vrij
DESCRIPTION:
URL:https://www.enms.nl/agendapunt/kinderen-vanaf-12-uur-vrij-2/
CATEGORIES:Jaarkalender
END:VEVENT
BEGIN:VEVENT
DTSTART;TZID=Europe/Amsterdam:20181220T173000
DTEND;TZID=Europe/Amsterdam:20181220T190000
DTSTAMP:20260424T151214
CREATED:20181101T120326Z
LAST-MODIFIED:20181101T120326Z
UID:1544-1545327000-1545332400@www.enms.nl
SUMMARY:Kerstdiner
DESCRIPTION:
URL:https://www.enms.nl/agendapunt/kerstdiner/
CATEGORIES:Jaarkalender
END:VEVENT
BEGIN:VEVENT
DTSTART;VALUE=DATE:20181220
DTEND;VALUE=DATE:20181221
DTSTAMP:20260424T151214
CREATED:20181101T120247Z
LAST-MODIFIED:20181101T120247Z
UID:1542-1545264000-1545350399@www.enms.nl
SUMMARY:Kinderen vanaf 12 uur vrij
DESCRIPTION:
URL:https://www.enms.nl/agendapunt/kinderen-vanaf-12-uur-vrij/
CATEGORIES:Jaarkalender
END:VEVENT
END:VCALENDAR