BEGIN:VCALENDAR
VERSION:2.0
PRODID:-//Eerste Nederlandse Montessorischool - ECPv6.8.2.1//NONSGML v1.0//EN
CALSCALE:GREGORIAN
METHOD:PUBLISH
X-WR-CALNAME:Eerste Nederlandse Montessorischool
X-ORIGINAL-URL:https://www.enms.nl
X-WR-CALDESC:Evenementen voor Eerste Nederlandse Montessorischool
REFRESH-INTERVAL;VALUE=DURATION:PT1H
X-Robots-Tag:noindex
X-PUBLISHED-TTL:PT1H
BEGIN:VTIMEZONE
TZID:Europe/Amsterdam
BEGIN:DAYLIGHT
TZOFFSETFROM:+0100
TZOFFSETTO:+0200
TZNAME:CEST
DTSTART:20190331T010000
END:DAYLIGHT
BEGIN:STANDARD
TZOFFSETFROM:+0200
TZOFFSETTO:+0100
TZNAME:CET
DTSTART:20191027T010000
END:STANDARD
END:VTIMEZONE
BEGIN:VEVENT
DTSTART;VALUE=DATE:20191015
DTEND;VALUE=DATE:20191016
DTSTAMP:20260424T104933
CREATED:20191010T095625Z
LAST-MODIFIED:20191010T095625Z
UID:1832-1571097600-1571183999@www.enms.nl
SUMMARY:OB-1/OB-2/MB-3/MB-4 naar Gemeentemuseum
DESCRIPTION:
URL:https://www.enms.nl/agendapunt/ob-1ob-2mb-3mb-4-naar-gemeentemuseum/
CATEGORIES:Jaarkalender
END:VEVENT
BEGIN:VEVENT
DTSTART;VALUE=DATE:20191010
DTEND;VALUE=DATE:20191011
DTSTAMP:20260424T104933
CREATED:20190912T091319Z
LAST-MODIFIED:20190912T091319Z
UID:1789-1570665600-1570751999@www.enms.nl
SUMMARY:Thema ouderavond
DESCRIPTION:
URL:https://www.enms.nl/agendapunt/thema-ouderavond-2/
CATEGORIES:Jaarkalender
END:VEVENT
BEGIN:VEVENT
DTSTART;TZID=Europe/Amsterdam:20191004T083000
DTEND;TZID=Europe/Amsterdam:20191004T093000
DTSTAMP:20260424T104933
CREATED:20190912T091127Z
LAST-MODIFIED:20190912T091127Z
UID:1787-1570177800-1570181400@www.enms.nl
SUMMARY:Montessori Café
DESCRIPTION:
URL:https://www.enms.nl/agendapunt/montessori-cafe-7/
CATEGORIES:Jaarkalender
END:VEVENT
BEGIN:VEVENT
DTSTART;VALUE=DATE:20191002
DTEND;VALUE=DATE:20191012
DTSTAMP:20260424T104933
CREATED:20190912T091010Z
LAST-MODIFIED:20190912T091010Z
UID:1785-1569974400-1570838399@www.enms.nl
SUMMARY:Kinderboekenweek
DESCRIPTION:
URL:https://www.enms.nl/agendapunt/kinderboekenweek-2/
CATEGORIES:Jaarkalender
END:VEVENT
BEGIN:VEVENT
DTSTART;TZID=Europe/Amsterdam:20190920T083000
DTEND;TZID=Europe/Amsterdam:20190920T093000
DTSTAMP:20260424T104933
CREATED:20190912T090557Z
LAST-MODIFIED:20190912T090557Z
UID:1783-1568968200-1568971800@www.enms.nl
SUMMARY:Montessori Café
DESCRIPTION:
URL:https://www.enms.nl/agendapunt/montessori-cafe-6/
CATEGORIES:Jaarkalender
END:VEVENT
BEGIN:VEVENT
DTSTART;TZID=Europe/Amsterdam:20190918T090000
DTEND;TZID=Europe/Amsterdam:20190918T103000
DTSTAMP:20260424T104933
CREATED:20190718T101340Z
LAST-MODIFIED:20190718T101340Z
UID:1752-1568797200-1568802600@www.enms.nl
SUMMARY:Informatieochtend aspirant ouders
DESCRIPTION:
URL:https://www.enms.nl/agendapunt/informatieochtend-aspirant-ouders-8/
CATEGORIES:Jaarkalender
END:VEVENT
BEGIN:VEVENT
DTSTART;VALUE=DATE:20190917
DTEND;VALUE=DATE:20190918
DTSTAMP:20260424T104933
CREATED:20190718T101255Z
LAST-MODIFIED:20190718T101255Z
UID:1750-1568678400-1568764799@www.enms.nl
SUMMARY:Prinsjesdag; geen school
DESCRIPTION:
URL:https://www.enms.nl/agendapunt/prinsjesdag-geen-school-2/
CATEGORIES:Jaarkalender
END:VEVENT
BEGIN:VEVENT
DTSTART;VALUE=DATE:20190916
DTEND;VALUE=DATE:20190917
DTSTAMP:20260424T104933
CREATED:20190718T101224Z
LAST-MODIFIED:20190718T101224Z
UID:1748-1568592000-1568678399@www.enms.nl
SUMMARY:Margedag groep 1 t/m 8; studiedag team
DESCRIPTION:
URL:https://www.enms.nl/agendapunt/margedag-groep-1-tm-8-studiedag-team-5/
CATEGORIES:Jaarkalender
END:VEVENT
BEGIN:VEVENT
DTSTART;VALUE=DATE:20190911
DTEND;VALUE=DATE:20190912
DTSTAMP:20260424T104933
CREATED:20190718T101123Z
LAST-MODIFIED:20190718T101123Z
UID:1746-1568160000-1568246399@www.enms.nl
SUMMARY:Beachsportdag onderbouw
DESCRIPTION:
URL:https://www.enms.nl/agendapunt/beachsportdag-onderbouw/
CATEGORIES:Jaarkalender
END:VEVENT
BEGIN:VEVENT
DTSTART;VALUE=DATE:20190910
DTEND;VALUE=DATE:20190911
DTSTAMP:20260424T104933
CREATED:20190718T101048Z
LAST-MODIFIED:20190718T101048Z
UID:1744-1568073600-1568159999@www.enms.nl
SUMMARY:Beachsportdag midden- en bovenbouw
DESCRIPTION:
URL:https://www.enms.nl/agendapunt/beachsportdag-midden-en-bovenbouw/
CATEGORIES:Jaarkalender
END:VEVENT
BEGIN:VEVENT
DTSTART;TZID=Europe/Amsterdam:20190904T083000
DTEND;TZID=Europe/Amsterdam:20190904T093000
DTSTAMP:20260424T104933
CREATED:20190718T100958Z
LAST-MODIFIED:20190718T100958Z
UID:1742-1567585800-1567589400@www.enms.nl
SUMMARY:Montessori Café
DESCRIPTION:
URL:https://www.enms.nl/agendapunt/montessori-cafe-5/
CATEGORIES:Jaarkalender
END:VEVENT
BEGIN:VEVENT
DTSTART;VALUE=DATE:20190902
DTEND;VALUE=DATE:20190903
DTSTAMP:20260424T104933
CREATED:20190718T100918Z
LAST-MODIFIED:20190718T100918Z
UID:1740-1567382400-1567468799@www.enms.nl
SUMMARY:Eerste schooldag schooljaar 2019-2020
DESCRIPTION:
URL:https://www.enms.nl/agendapunt/eerste-schooldag-schooljaar-2019-2020/
CATEGORIES:Jaarkalender
END:VEVENT
BEGIN:VEVENT
DTSTART;VALUE=DATE:20190722
DTEND;VALUE=DATE:20190831
DTSTAMP:20260424T104933
CREATED:20190627T092455Z
LAST-MODIFIED:20190627T092455Z
UID:1727-1563753600-1567209599@www.enms.nl
SUMMARY:Zomervakantie
DESCRIPTION:
URL:https://www.enms.nl/agendapunt/zomervakantie-2/
CATEGORIES:Jaarkalender
END:VEVENT
BEGIN:VEVENT
DTSTART;VALUE=DATE:20190719
DTEND;VALUE=DATE:20190720
DTSTAMP:20260424T104933
CREATED:20190627T092421Z
LAST-MODIFIED:20190627T092421Z
UID:1725-1563494400-1563580799@www.enms.nl
SUMMARY:Laatste schooldag; kinderen 12 uur vrij
DESCRIPTION:
URL:https://www.enms.nl/agendapunt/laatste-schooldag-kinderen-12-uur-vrij/
CATEGORIES:Jaarkalender
END:VEVENT
BEGIN:VEVENT
DTSTART;VALUE=DATE:20190717
DTEND;VALUE=DATE:20190718
DTSTAMP:20260424T104933
CREATED:20190627T091934Z
LAST-MODIFIED:20190627T091934Z
UID:1723-1563321600-1563407999@www.enms.nl
SUMMARY:Afscheid oudste kleuters
DESCRIPTION:
URL:https://www.enms.nl/agendapunt/afscheid-oudste-kleuters/
CATEGORIES:Jaarkalender
END:VEVENT
BEGIN:VEVENT
DTSTART;TZID=Europe/Amsterdam:20190715T163000
DTEND;TZID=Europe/Amsterdam:20190715T173000
DTSTAMP:20260424T104933
CREATED:20190627T091846Z
LAST-MODIFIED:20190627T091855Z
UID:1721-1563208200-1563211800@www.enms.nl
SUMMARY:Presentatie eindwerk groep 8
DESCRIPTION:
URL:https://www.enms.nl/agendapunt/presentatie-eindwerk-groep-8-2/
CATEGORIES:Jaarkalender
END:VEVENT
BEGIN:VEVENT
DTSTART;VALUE=DATE:20190712
DTEND;VALUE=DATE:20190713
DTSTAMP:20260424T104933
CREATED:20190613T102046Z
LAST-MODIFIED:20190613T102046Z
UID:1711-1562889600-1562975999@www.enms.nl
SUMMARY:Eindfeest; kinderen 12 uur vrij
DESCRIPTION:
URL:https://www.enms.nl/agendapunt/eindfeest-kinderen-12-uur-vrij/
CATEGORIES:Jaarkalender
END:VEVENT
BEGIN:VEVENT
DTSTART;TZID=Europe/Amsterdam:20190711T083000
DTEND;TZID=Europe/Amsterdam:20190711T093000
DTSTAMP:20260424T104933
CREATED:20190613T101931Z
LAST-MODIFIED:20190613T101931Z
UID:1709-1562833800-1562837400@www.enms.nl
SUMMARY:Montessori Café
DESCRIPTION:
URL:https://www.enms.nl/agendapunt/montessori-cafe-4/
CATEGORIES:Jaarkalender
END:VEVENT
BEGIN:VEVENT
DTSTART;VALUE=DATE:20190710
DTEND;VALUE=DATE:20190711
DTSTAMP:20260424T104933
CREATED:20190613T101846Z
LAST-MODIFIED:20190613T101846Z
UID:1707-1562716800-1562803199@www.enms.nl
SUMMARY:Musical groep 8
DESCRIPTION:
URL:https://www.enms.nl/agendapunt/musical-groep-8-2/
CATEGORIES:Jaarkalender
END:VEVENT
BEGIN:VEVENT
DTSTART;VALUE=DATE:20190708
DTEND;VALUE=DATE:20190712
DTSTAMP:20260424T104933
CREATED:20190613T101806Z
LAST-MODIFIED:20190613T101806Z
UID:1705-1562544000-1562889599@www.enms.nl
SUMMARY:Verslagweek (facultatief)
DESCRIPTION:
URL:https://www.enms.nl/agendapunt/verslagweek-facultatief-2/
CATEGORIES:Jaarkalender
END:VEVENT
BEGIN:VEVENT
DTSTART;VALUE=DATE:20190703
DTEND;VALUE=DATE:20190704
DTSTAMP:20260424T104933
CREATED:20190606T074622Z
LAST-MODIFIED:20190606T074622Z
UID:1703-1562112000-1562198399@www.enms.nl
SUMMARY:Juffendag middenbouw
DESCRIPTION:
URL:https://www.enms.nl/agendapunt/juffendag-middenbouw/
CATEGORIES:Jaarkalender
END:VEVENT
BEGIN:VEVENT
DTSTART;TZID=Europe/Amsterdam:20190627T083000
DTEND;TZID=Europe/Amsterdam:20190627T093000
DTSTAMP:20260424T104933
CREATED:20190606T074547Z
LAST-MODIFIED:20190606T074547Z
UID:1701-1561624200-1561627800@www.enms.nl
SUMMARY:Montessori Café
DESCRIPTION:
URL:https://www.enms.nl/agendapunt/montessori-cafe-3/
CATEGORIES:Jaarkalender
END:VEVENT
BEGIN:VEVENT
DTSTART;TZID=Europe/Amsterdam:20190619T090000
DTEND;TZID=Europe/Amsterdam:20190619T103000
DTSTAMP:20260424T104933
CREATED:20190606T074507Z
LAST-MODIFIED:20190606T074507Z
UID:1699-1560934800-1560940200@www.enms.nl
SUMMARY:Informatieochtend aspirant ouders
DESCRIPTION:
URL:https://www.enms.nl/agendapunt/informatieochtend-aspirant-ouders-7/
CATEGORIES:Jaarkalender
END:VEVENT
BEGIN:VEVENT
DTSTART;TZID=Europe/Amsterdam:20190613T083000
DTEND;TZID=Europe/Amsterdam:20190613T093000
DTSTAMP:20260424T104933
CREATED:20190606T074415Z
LAST-MODIFIED:20190606T074415Z
UID:1697-1560414600-1560418200@www.enms.nl
SUMMARY:Montessori Café
DESCRIPTION:
URL:https://www.enms.nl/agendapunt/montessori-cafe-2/
CATEGORIES:Jaarkalender
END:VEVENT
BEGIN:VEVENT
DTSTART;VALUE=DATE:20190613
DTEND;VALUE=DATE:20190614
DTSTAMP:20260424T104933
CREATED:20190606T074329Z
LAST-MODIFIED:20190606T074329Z
UID:1695-1560384000-1560470399@www.enms.nl
SUMMARY:Formatie en groepsindeling 2019-2020 bekend
DESCRIPTION:
URL:https://www.enms.nl/agendapunt/formatie-en-groepsindeling-2019-2020-bekend/
CATEGORIES:Jaarkalender
END:VEVENT
BEGIN:VEVENT
DTSTART;VALUE=DATE:20190611
DTEND;VALUE=DATE:20190612
DTSTAMP:20260424T104933
CREATED:20190509T115309Z
LAST-MODIFIED:20190509T115309Z
UID:1677-1560211200-1560297599@www.enms.nl
SUMMARY:Margedag gr. 1-8 / Studiedag team
DESCRIPTION:
URL:https://www.enms.nl/agendapunt/margedag-gr-1-8-studiedag-team-2/
CATEGORIES:Jaarkalender
END:VEVENT
BEGIN:VEVENT
DTSTART;VALUE=DATE:20190608
DTEND;VALUE=DATE:20190611
DTSTAMP:20260424T104933
CREATED:20190509T115217Z
LAST-MODIFIED:20190509T115217Z
UID:1675-1559952000-1560211199@www.enms.nl
SUMMARY:Pinksterweekend
DESCRIPTION:
URL:https://www.enms.nl/agendapunt/pinksterweekend/
CATEGORIES:Jaarkalender
END:VEVENT
BEGIN:VEVENT
DTSTART;VALUE=DATE:20190607
DTEND;VALUE=DATE:20190608
DTSTAMP:20260424T104933
CREATED:20190509T115136Z
LAST-MODIFIED:20190509T115136Z
UID:1673-1559865600-1559951999@www.enms.nl
SUMMARY:Margedag gr. 1-8 / Studiedag team
DESCRIPTION:
URL:https://www.enms.nl/agendapunt/margedag-gr-1-8-studiedag-team/
CATEGORIES:Jaarkalender
END:VEVENT
BEGIN:VEVENT
DTSTART;VALUE=DATE:20190606
DTEND;VALUE=DATE:20190607
DTSTAMP:20260424T104933
CREATED:20190516T150101Z
LAST-MODIFIED:20190529T070856Z
UID:1682-1559779200-1559865599@www.enms.nl
SUMMARY:Feest onderbouw
DESCRIPTION:
URL:https://www.enms.nl/agendapunt/juffendag-onderbouw/
CATEGORIES:Jaarkalender
END:VEVENT
BEGIN:VEVENT
DTSTART;VALUE=DATE:20190603
DTEND;VALUE=DATE:20190604
DTSTAMP:20260424T104933
CREATED:20190509T115040Z
LAST-MODIFIED:20190509T115040Z
UID:1671-1559520000-1559606399@www.enms.nl
SUMMARY:Fietsexamen gr. 7
DESCRIPTION:
URL:https://www.enms.nl/agendapunt/fietsexamen-gr-7/
CATEGORIES:Jaarkalender
END:VEVENT
END:VCALENDAR