BEGIN:VCALENDAR
VERSION:2.0
PRODID:-//Eerste Nederlandse Montessorischool - ECPv6.8.2.1//NONSGML v1.0//EN
CALSCALE:GREGORIAN
METHOD:PUBLISH
X-ORIGINAL-URL:https://www.enms.nl
X-WR-CALDESC:Evenementen voor Eerste Nederlandse Montessorischool
REFRESH-INTERVAL;VALUE=DURATION:PT1H
X-Robots-Tag:noindex
X-PUBLISHED-TTL:PT1H
BEGIN:VTIMEZONE
TZID:Europe/Amsterdam
BEGIN:DAYLIGHT
TZOFFSETFROM:+0100
TZOFFSETTO:+0200
TZNAME:CEST
DTSTART:20200329T010000
END:DAYLIGHT
BEGIN:STANDARD
TZOFFSETFROM:+0200
TZOFFSETTO:+0100
TZNAME:CET
DTSTART:20201025T010000
END:STANDARD
END:VTIMEZONE
BEGIN:VEVENT
DTSTART;VALUE=DATE:20200720
DTEND;VALUE=DATE:20200829
DTSTAMP:20260424T032850
CREATED:20200527T091803Z
LAST-MODIFIED:20200527T091803Z
UID:2061-1595203200-1598659199@www.enms.nl
SUMMARY:Zomervakantie
DESCRIPTION:
URL:https://www.enms.nl/agendapunt/zomervakantie-3/
CATEGORIES:Jaarkalender
END:VEVENT
BEGIN:VEVENT
DTSTART;VALUE=DATE:20200717
DTEND;VALUE=DATE:20200718
DTSTAMP:20260424T032850
CREATED:20200602T090525Z
LAST-MODIFIED:20200602T090525Z
UID:2068-1594944000-1595030399@www.enms.nl
SUMMARY:Laatste schooldag; vanaf 12 uur vrij
DESCRIPTION:
URL:https://www.enms.nl/agendapunt/laatste-schooldag-vanaf-12-uur-vrij/
CATEGORIES:Jaarkalender
END:VEVENT
BEGIN:VEVENT
DTSTART;VALUE=DATE:20200714
DTEND;VALUE=DATE:20200715
DTSTAMP:20260424T032850
CREATED:20200604T080529Z
LAST-MODIFIED:20200604T080529Z
UID:2071-1594684800-1594771199@www.enms.nl
SUMMARY:Musicalfilm groep 8
DESCRIPTION:
URL:https://www.enms.nl/agendapunt/musicalfilm-groep-8/
CATEGORIES:Jaarkalender
END:VEVENT
BEGIN:VEVENT
DTSTART;VALUE=DATE:20200713
DTEND;VALUE=DATE:20200714
DTSTAMP:20260424T032850
CREATED:20200602T090332Z
LAST-MODIFIED:20200602T090332Z
UID:2066-1594598400-1594684799@www.enms.nl
SUMMARY:Presentatie eindwerk groep 8
DESCRIPTION:
URL:https://www.enms.nl/agendapunt/presentatie-eindwerk-groep-8-3/
CATEGORIES:Jaarkalender
END:VEVENT
BEGIN:VEVENT
DTSTART;VALUE=DATE:20200706
DTEND;VALUE=DATE:20200710
DTSTAMP:20260424T032850
CREATED:20200602T090200Z
LAST-MODIFIED:20200702T123747Z
UID:2064-1593993600-1594339199@www.enms.nl
SUMMARY:Ouder/kind gesprekken voor groep 3 t/m 7 (facultatief)
DESCRIPTION:
URL:https://www.enms.nl/agendapunt/verslagweek-voor-groep-3-t-m-7-facultatief/
CATEGORIES:Jaarkalender
END:VEVENT
BEGIN:VEVENT
DTSTART;VALUE=DATE:20200702
DTEND;VALUE=DATE:20200703
DTSTAMP:20260424T032850
CREATED:20200527T091543Z
LAST-MODIFIED:20200527T091543Z
UID:2059-1593648000-1593734399@www.enms.nl
SUMMARY:Nieuwsbrief
DESCRIPTION:
URL:https://www.enms.nl/agendapunt/nieuwsbrief-3/
CATEGORIES:Jaarkalender
END:VEVENT
BEGIN:VEVENT
DTSTART;VALUE=DATE:20200618
DTEND;VALUE=DATE:20200619
DTSTAMP:20260424T032850
CREATED:20200514T113428Z
LAST-MODIFIED:20200514T113428Z
UID:2047-1592438400-1592524799@www.enms.nl
SUMMARY:Formatie en groepsindeling bekend
DESCRIPTION:
URL:https://www.enms.nl/agendapunt/formatie-en-groepsindeling-bekend/
CATEGORIES:Jaarkalender
END:VEVENT
BEGIN:VEVENT
DTSTART;VALUE=DATE:20200604
DTEND;VALUE=DATE:20200605
DTSTAMP:20260424T032850
CREATED:20200423T135221Z
LAST-MODIFIED:20200423T135221Z
UID:2044-1591228800-1591315199@www.enms.nl
SUMMARY:Nieuwsbrief
DESCRIPTION:
URL:https://www.enms.nl/agendapunt/nieuwsbrief-2/
CATEGORIES:Jaarkalender
END:VEVENT
BEGIN:VEVENT
DTSTART;VALUE=DATE:20200530
DTEND;VALUE=DATE:20200602
DTSTAMP:20260424T032850
CREATED:20200423T135119Z
LAST-MODIFIED:20200423T135119Z
UID:2042-1590796800-1591055999@www.enms.nl
SUMMARY:Pinksterweekend
DESCRIPTION:
URL:https://www.enms.nl/agendapunt/pinksterweekend-2/
CATEGORIES:Jaarkalender
END:VEVENT
BEGIN:VEVENT
DTSTART;TZID=Europe/Amsterdam:20200527T090000
DTEND;TZID=Europe/Amsterdam:20200527T103000
DTSTAMP:20260424T032850
CREATED:20200401T130804Z
LAST-MODIFIED:20200401T130804Z
UID:2004-1590570000-1590575400@www.enms.nl
SUMMARY:Informatieochtend aspirant ouders
DESCRIPTION:
URL:https://www.enms.nl/agendapunt/informatieochtend-aspirant-ouders-11/
CATEGORIES:Jaarkalender
END:VEVENT
BEGIN:VEVENT
DTSTART;VALUE=DATE:20200521
DTEND;VALUE=DATE:20200525
DTSTAMP:20260424T032850
CREATED:20200401T130711Z
LAST-MODIFIED:20200401T130711Z
UID:2002-1590019200-1590364799@www.enms.nl
SUMMARY:Hemelvaartweekend
DESCRIPTION:
URL:https://www.enms.nl/agendapunt/hemelvaartweekend-2/
CATEGORIES:Jaarkalender
END:VEVENT
BEGIN:VEVENT
DTSTART;VALUE=DATE:20200427
DTEND;VALUE=DATE:20200509
DTSTAMP:20260424T032850
CREATED:20200401T130526Z
LAST-MODIFIED:20200401T130526Z
UID:1998-1587945600-1588982399@www.enms.nl
SUMMARY:Meivakantie
DESCRIPTION:
URL:https://www.enms.nl/agendapunt/meivakantie-3/
CATEGORIES:Jaarkalender
END:VEVENT
BEGIN:VEVENT
DTSTART;VALUE=DATE:20200316
DTEND;VALUE=DATE:20200425
DTSTAMP:20260424T032850
CREATED:20200302T092344Z
LAST-MODIFIED:20200401T130429Z
UID:1980-1584316800-1587772799@www.enms.nl
SUMMARY:School gesloten i.v.m. coronavirus\, onderwijs op afstand
DESCRIPTION:
URL:https://www.enms.nl/agendapunt/montessori-cafe-16/
CATEGORIES:Jaarkalender
END:VEVENT
BEGIN:VEVENT
DTSTART;VALUE=DATE:20200309
DTEND;VALUE=DATE:20200314
DTSTAMP:20260424T032850
CREATED:20200217T090604Z
LAST-MODIFIED:20200217T090604Z
UID:1973-1583712000-1584143999@www.enms.nl
SUMMARY:Verslagweek
DESCRIPTION:
URL:https://www.enms.nl/agendapunt/verslagweek-5/
CATEGORIES:Jaarkalender
END:VEVENT
BEGIN:VEVENT
DTSTART;VALUE=DATE:20200308
DTEND;VALUE=DATE:20200309
DTSTAMP:20260424T032850
CREATED:20200217T090444Z
LAST-MODIFIED:20200217T090444Z
UID:1971-1583625600-1583711999@www.enms.nl
SUMMARY:CPC-loop
DESCRIPTION:
URL:https://www.enms.nl/agendapunt/cpc-loop-3/
CATEGORIES:Jaarkalender
END:VEVENT
BEGIN:VEVENT
DTSTART;TZID=Europe/Amsterdam:20200304T083000
DTEND;TZID=Europe/Amsterdam:20200304T093000
DTSTAMP:20260424T032850
CREATED:20200217T090401Z
LAST-MODIFIED:20200217T090401Z
UID:1969-1583310600-1583314200@www.enms.nl
SUMMARY:Montessori Café
DESCRIPTION:
URL:https://www.enms.nl/agendapunt/montessori-cafe-15/
CATEGORIES:Jaarkalender
END:VEVENT
BEGIN:VEVENT
DTSTART;VALUE=DATE:20200224
DTEND;VALUE=DATE:20200229
DTSTAMP:20260424T032850
CREATED:20200204T135639Z
LAST-MODIFIED:20200204T135639Z
UID:1962-1582502400-1582934399@www.enms.nl
SUMMARY:Voorjaarsvakantie
DESCRIPTION:
URL:https://www.enms.nl/agendapunt/voorjaarsvakantie-3/
CATEGORIES:Jaarkalender
END:VEVENT
BEGIN:VEVENT
DTSTART;VALUE=DATE:20200221
DTEND;VALUE=DATE:20200222
DTSTAMP:20260424T032850
CREATED:20200204T135557Z
LAST-MODIFIED:20200204T135557Z
UID:1960-1582243200-1582329599@www.enms.nl
SUMMARY:Margedag groep 1-8 / Studiedag team
DESCRIPTION:
URL:https://www.enms.nl/agendapunt/margedag-groep-1-8-studiedag-team-2/
CATEGORIES:Jaarkalender
END:VEVENT
BEGIN:VEVENT
DTSTART;VALUE=DATE:20200220
DTEND;VALUE=DATE:20200221
DTSTAMP:20260424T032850
CREATED:20200217T085604Z
LAST-MODIFIED:20200217T085636Z
UID:1965-1582156800-1582243199@www.enms.nl
SUMMARY:Groep 5 en 6 naar het Zuiderstrandtheater
DESCRIPTION:
URL:https://www.enms.nl/agendapunt/groep-5-en-6-naar-het-zuiderstrandtheater/
CATEGORIES:Jaarkalender
END:VEVENT
BEGIN:VEVENT
DTSTART;VALUE=DATE:20200220
DTEND;VALUE=DATE:20200221
DTSTAMP:20260424T032850
CREATED:20200204T135512Z
LAST-MODIFIED:20200204T135512Z
UID:1958-1582156800-1582243199@www.enms.nl
SUMMARY:Nieuwsbrief ENMS
DESCRIPTION:
URL:https://www.enms.nl/agendapunt/nieuwsbrief-enms-2/
CATEGORIES:Jaarkalender
END:VEVENT
BEGIN:VEVENT
DTSTART;TZID=Europe/Amsterdam:20200219T090000
DTEND;TZID=Europe/Amsterdam:20200219T103000
DTSTAMP:20260424T032850
CREATED:20200108T112117Z
LAST-MODIFIED:20200108T112117Z
UID:1910-1582102800-1582108200@www.enms.nl
SUMMARY:Informatieochtend aspirant ouders
DESCRIPTION:
URL:https://www.enms.nl/agendapunt/informatieochtend-aspirant-ouders-10/
CATEGORIES:Jaarkalender
END:VEVENT
BEGIN:VEVENT
DTSTART;VALUE=DATE:20200218
DTEND;VALUE=DATE:20200219
DTSTAMP:20260424T032850
CREATED:20200108T112013Z
LAST-MODIFIED:20200217T085742Z
UID:1908-1581984000-1582070399@www.enms.nl
SUMMARY:BB-3 en BB-4 naar het Kunstmuseum
DESCRIPTION:
URL:https://www.enms.nl/agendapunt/bb-3-en-bb-4-naar-kunstmuseum/
CATEGORIES:Jaarkalender
END:VEVENT
BEGIN:VEVENT
DTSTART;VALUE=DATE:20200217
DTEND;VALUE=DATE:20200218
DTSTAMP:20260424T032850
CREATED:20200108T111943Z
LAST-MODIFIED:20200217T085806Z
UID:1906-1581897600-1581983999@www.enms.nl
SUMMARY:BB-1 en BB-2 naar het Kunstmuseum
DESCRIPTION:
URL:https://www.enms.nl/agendapunt/bb-1-en-bb-2-naar-kunstmuseum/
CATEGORIES:Jaarkalender
END:VEVENT
BEGIN:VEVENT
DTSTART;VALUE=DATE:20200214
DTEND;VALUE=DATE:20200215
DTSTAMP:20260424T032850
CREATED:20200108T111904Z
LAST-MODIFIED:20200108T111904Z
UID:1904-1581638400-1581724799@www.enms.nl
SUMMARY:Voorstelling OB-3\, MB-3 en BB-3
DESCRIPTION:
URL:https://www.enms.nl/agendapunt/voorstelling-ob-3-mb-3-en-bb-3/
CATEGORIES:Jaarkalender
END:VEVENT
BEGIN:VEVENT
DTSTART;VALUE=DATE:20200212
DTEND;VALUE=DATE:20200213
DTSTAMP:20260424T032850
CREATED:20200108T111721Z
LAST-MODIFIED:20200108T111721Z
UID:1902-1581465600-1581551999@www.enms.nl
SUMMARY:Middenbouw naar het theater
DESCRIPTION:
URL:https://www.enms.nl/agendapunt/middenbouw-naar-het-theater/
CATEGORIES:Jaarkalender
END:VEVENT
BEGIN:VEVENT
DTSTART;TZID=Europe/Amsterdam:20200207T083000
DTEND;TZID=Europe/Amsterdam:20200207T093000
DTSTAMP:20260424T032850
CREATED:20200108T111634Z
LAST-MODIFIED:20200108T111634Z
UID:1900-1581064200-1581067800@www.enms.nl
SUMMARY:Montessori Café
DESCRIPTION:
URL:https://www.enms.nl/agendapunt/montessori-cafe-14/
CATEGORIES:Jaarkalender
END:VEVENT
BEGIN:VEVENT
DTSTART;VALUE=DATE:20200205
DTEND;VALUE=DATE:20200206
DTSTAMP:20260424T032850
CREATED:20200108T111555Z
LAST-MODIFIED:20200108T111555Z
UID:1898-1580860800-1580947199@www.enms.nl
SUMMARY:OB-1 en OB-2 naar Kunstmuseum
DESCRIPTION:
URL:https://www.enms.nl/agendapunt/ob-1-en-ob-2-naar-kunstmuseum/
CATEGORIES:Jaarkalender
END:VEVENT
BEGIN:VEVENT
DTSTART;VALUE=DATE:20200130
DTEND;VALUE=DATE:20200201
DTSTAMP:20260424T032850
CREATED:20200121T143049Z
LAST-MODIFIED:20200121T143049Z
UID:1943-1580342400-1580515199@www.enms.nl
SUMMARY:Landelijke onderwijsstaking; school gesloten
DESCRIPTION:
URL:https://www.enms.nl/agendapunt/landelijke-onderwijsstaking-school-gesloten/
CATEGORIES:Jaarkalender
END:VEVENT
BEGIN:VEVENT
DTSTART;VALUE=DATE:20200123
DTEND;VALUE=DATE:20200124
DTSTAMP:20260424T032850
CREATED:20191219T104704Z
LAST-MODIFIED:20191219T104704Z
UID:1893-1579737600-1579823999@www.enms.nl
SUMMARY:Nieuwsbrief ENMS
DESCRIPTION:
URL:https://www.enms.nl/agendapunt/nieuwsbrief-enms/
CATEGORIES:Jaarkalender
END:VEVENT
BEGIN:VEVENT
DTSTART;TZID=Europe/Amsterdam:20200122T083000
DTEND;TZID=Europe/Amsterdam:20200122T093000
DTSTAMP:20260424T032850
CREATED:20191219T104639Z
LAST-MODIFIED:20191219T104639Z
UID:1891-1579681800-1579685400@www.enms.nl
SUMMARY:Montessori Café
DESCRIPTION:
URL:https://www.enms.nl/agendapunt/montessori-cafe-13/
CATEGORIES:Jaarkalender
END:VEVENT
END:VCALENDAR