BEGIN:VCALENDAR
VERSION:2.0
PRODID:-//Eerste Nederlandse Montessorischool - ECPv6.8.2.1//NONSGML v1.0//EN
CALSCALE:GREGORIAN
METHOD:PUBLISH
X-WR-CALNAME:Eerste Nederlandse Montessorischool
X-ORIGINAL-URL:https://www.enms.nl
X-WR-CALDESC:Evenementen voor Eerste Nederlandse Montessorischool
REFRESH-INTERVAL;VALUE=DURATION:PT1H
X-Robots-Tag:noindex
X-PUBLISHED-TTL:PT1H
BEGIN:VTIMEZONE
TZID:Europe/Amsterdam
BEGIN:DAYLIGHT
TZOFFSETFROM:+0100
TZOFFSETTO:+0200
TZNAME:CEST
DTSTART:20200329T010000
END:DAYLIGHT
BEGIN:STANDARD
TZOFFSETFROM:+0200
TZOFFSETTO:+0100
TZNAME:CET
DTSTART:20201025T010000
END:STANDARD
BEGIN:DAYLIGHT
TZOFFSETFROM:+0100
TZOFFSETTO:+0200
TZNAME:CEST
DTSTART:20210328T010000
END:DAYLIGHT
BEGIN:STANDARD
TZOFFSETFROM:+0200
TZOFFSETTO:+0100
TZNAME:CET
DTSTART:20211031T010000
END:STANDARD
END:VTIMEZONE
BEGIN:VEVENT
DTSTART;VALUE=DATE:20201219
DTEND;VALUE=DATE:20210104
DTSTAMP:20260423T224708
CREATED:20201203T080802Z
LAST-MODIFIED:20201203T080802Z
UID:2205-1608336000-1609718399@www.enms.nl
SUMMARY:Kerstvakantie
DESCRIPTION:
URL:https://www.enms.nl/agendapunt/kerstvakantie-4/
CATEGORIES:Jaarkalender
END:VEVENT
BEGIN:VEVENT
DTSTART;VALUE=DATE:20201210
DTEND;VALUE=DATE:20201211
DTSTAMP:20260423T224708
CREATED:20201112T154747Z
LAST-MODIFIED:20201112T154747Z
UID:2194-1607558400-1607644799@www.enms.nl
SUMMARY:Nieuwsbrief
DESCRIPTION:
URL:https://www.enms.nl/agendapunt/nieuwsbrief-7/
CATEGORIES:Jaarkalender
END:VEVENT
BEGIN:VEVENT
DTSTART;VALUE=DATE:20201210
DTEND;VALUE=DATE:20201211
DTSTAMP:20260423T224708
CREATED:20201112T154720Z
LAST-MODIFIED:20201112T154720Z
UID:2192-1607558400-1607644799@www.enms.nl
SUMMARY:VO adviesgesprekken groep 8
DESCRIPTION:
URL:https://www.enms.nl/agendapunt/vo-adviesgesprekken-groep-8/
CATEGORIES:Jaarkalender
END:VEVENT
BEGIN:VEVENT
DTSTART;VALUE=DATE:20201204
DTEND;VALUE=DATE:20201205
DTSTAMP:20260423T224708
CREATED:20201112T154621Z
LAST-MODIFIED:20201112T154621Z
UID:2190-1607040000-1607126399@www.enms.nl
SUMMARY:Sinterklaasviering
DESCRIPTION:
URL:https://www.enms.nl/agendapunt/sinterklaasviering-2/
CATEGORIES:Jaarkalender
END:VEVENT
BEGIN:VEVENT
DTSTART;VALUE=DATE:20201127
DTEND;VALUE=DATE:20201128
DTSTAMP:20260423T224708
CREATED:20201029T122216Z
LAST-MODIFIED:20201029T122216Z
UID:2176-1606435200-1606521599@www.enms.nl
SUMMARY:Margedag groep 1 t/m 8; Studiedag team
DESCRIPTION:
URL:https://www.enms.nl/agendapunt/margedag-groep-1-t-m-8-studiedag-team-2/
CATEGORIES:Jaarkalender
END:VEVENT
BEGIN:VEVENT
DTSTART;VALUE=DATE:20201126
DTEND;VALUE=DATE:20201127
DTSTAMP:20260423T224708
CREATED:20201029T122140Z
LAST-MODIFIED:20201029T122140Z
UID:2174-1606348800-1606435199@www.enms.nl
SUMMARY:Info VO ouders groep 8
DESCRIPTION:
URL:https://www.enms.nl/agendapunt/info-vo-ouders-groep-8/
CATEGORIES:Jaarkalender
END:VEVENT
BEGIN:VEVENT
DTSTART;VALUE=DATE:20201120
DTEND;VALUE=DATE:20201121
DTSTAMP:20260423T224708
CREATED:20201029T122107Z
LAST-MODIFIED:20201029T122107Z
UID:2172-1605830400-1605916799@www.enms.nl
SUMMARY:Voorstelling OB-1\, MB-1 en BB-1 (zonder ouders)
DESCRIPTION:
URL:https://www.enms.nl/agendapunt/voorstelling-ob-1-mb-1-en-bb-1-zonder-ouders/
CATEGORIES:Jaarkalender
END:VEVENT
BEGIN:VEVENT
DTSTART;VALUE=DATE:20201116
DTEND;VALUE=DATE:20201121
DTSTAMP:20260423T224708
CREATED:20201029T122020Z
LAST-MODIFIED:20201029T122020Z
UID:2170-1605484800-1605916799@www.enms.nl
SUMMARY:Verslagweek
DESCRIPTION:
URL:https://www.enms.nl/agendapunt/verslagweek-6/
CATEGORIES:Jaarkalender
END:VEVENT
BEGIN:VEVENT
DTSTART;VALUE=DATE:20201112
DTEND;VALUE=DATE:20201113
DTSTAMP:20260423T224708
CREATED:20201015T142333Z
LAST-MODIFIED:20201015T142333Z
UID:2161-1605139200-1605225599@www.enms.nl
SUMMARY:Nieuwsbrief
DESCRIPTION:
URL:https://www.enms.nl/agendapunt/nieuwsbrief-6/
CATEGORIES:Jaarkalender
END:VEVENT
BEGIN:VEVENT
DTSTART;VALUE=DATE:20201029
DTEND;VALUE=DATE:20201031
DTSTAMP:20260423T224708
CREATED:20200909T101117Z
LAST-MODIFIED:20200909T101117Z
UID:2131-1603929600-1604102399@www.enms.nl
SUMMARY:Schoolfoto
DESCRIPTION:
URL:https://www.enms.nl/agendapunt/schoolfoto-4/
CATEGORIES:Jaarkalender
END:VEVENT
BEGIN:VEVENT
DTSTART;VALUE=DATE:20201019
DTEND;VALUE=DATE:20201024
DTSTAMP:20260423T224708
CREATED:20200909T101045Z
LAST-MODIFIED:20200909T101045Z
UID:2129-1603065600-1603497599@www.enms.nl
SUMMARY:Herfstvakantie
DESCRIPTION:
URL:https://www.enms.nl/agendapunt/herfstvakantie-4/
CATEGORIES:Jaarkalender
END:VEVENT
BEGIN:VEVENT
DTSTART;VALUE=DATE:20201016
DTEND;VALUE=DATE:20201017
DTSTAMP:20260423T224708
CREATED:20200909T101004Z
LAST-MODIFIED:20200909T101004Z
UID:2127-1602806400-1602892799@www.enms.nl
SUMMARY:Voorstelling OB-4\, MB-4 en BB-4 (zonder ouders)
DESCRIPTION:
URL:https://www.enms.nl/agendapunt/voorstelling-ob-4-mb-4-en-bb-4-zonder-ouders/
CATEGORIES:Jaarkalender
END:VEVENT
BEGIN:VEVENT
DTSTART;VALUE=DATE:20201015
DTEND;VALUE=DATE:20201016
DTSTAMP:20260423T224708
CREATED:20200909T100910Z
LAST-MODIFIED:20200909T100910Z
UID:2125-1602720000-1602806399@www.enms.nl
SUMMARY:Nieuwsbrief
DESCRIPTION:
URL:https://www.enms.nl/agendapunt/nieuwsbrief-5/
CATEGORIES:Jaarkalender
END:VEVENT
BEGIN:VEVENT
DTSTART;VALUE=DATE:20200930
DTEND;VALUE=DATE:20201001
DTSTAMP:20260423T224708
CREATED:20200908T100213Z
LAST-MODIFIED:20200908T100213Z
UID:2122-1601424000-1601510399@www.enms.nl
SUMMARY:Start kinderboekenweek
DESCRIPTION:
URL:https://www.enms.nl/agendapunt/start-kinderboekenweek-2/
CATEGORIES:Jaarkalender
END:VEVENT
BEGIN:VEVENT
DTSTART;VALUE=DATE:20200917
DTEND;VALUE=DATE:20200918
DTSTAMP:20260423T224708
CREATED:20200827T104949Z
LAST-MODIFIED:20200827T104949Z
UID:2101-1600300800-1600387199@www.enms.nl
SUMMARY:Nieuwsbrief
DESCRIPTION:
URL:https://www.enms.nl/agendapunt/nieuwsbrief-4/
CATEGORIES:Jaarkalender
END:VEVENT
BEGIN:VEVENT
DTSTART;VALUE=DATE:20200915
DTEND;VALUE=DATE:20200916
DTSTAMP:20260423T224708
CREATED:20200716T082512Z
LAST-MODIFIED:20200716T082512Z
UID:2093-1600128000-1600214399@www.enms.nl
SUMMARY:Prinsjesdag; geen school
DESCRIPTION:
URL:https://www.enms.nl/agendapunt/prinsjesdag-geen-school-3/
CATEGORIES:Jaarkalender
END:VEVENT
BEGIN:VEVENT
DTSTART;VALUE=DATE:20200914
DTEND;VALUE=DATE:20200915
DTSTAMP:20260423T224708
CREATED:20200716T082320Z
LAST-MODIFIED:20200716T082320Z
UID:2091-1600041600-1600127999@www.enms.nl
SUMMARY:Margedag groep 1 t/m 8; studiedag team
DESCRIPTION:
URL:https://www.enms.nl/agendapunt/margedag-groep-1-t-m-8-studiedag-team/
CATEGORIES:Jaarkalender
END:VEVENT
BEGIN:VEVENT
DTSTART;TZID=Europe/Amsterdam:20200909T090000
DTEND;TZID=Europe/Amsterdam:20200909T103000
DTSTAMP:20260423T224708
CREATED:20200716T082237Z
LAST-MODIFIED:20200716T082634Z
UID:2089-1599642000-1599647400@www.enms.nl
SUMMARY:Informatieochtend aspirant ouders
DESCRIPTION:
URL:https://www.enms.nl/agendapunt/informatieochtend-aspirant-ouders-12/
CATEGORIES:Jaarkalender
END:VEVENT
BEGIN:VEVENT
DTSTART;VALUE=DATE:20200831
DTEND;VALUE=DATE:20200901
DTSTAMP:20260423T224708
CREATED:20200702T123901Z
LAST-MODIFIED:20200702T123901Z
UID:2078-1598832000-1598918399@www.enms.nl
SUMMARY:Eerste schooldag schooljaar 2020-2021
DESCRIPTION:
URL:https://www.enms.nl/agendapunt/eerste-schooldag-schooljaar-2020-2021/
CATEGORIES:Jaarkalender
END:VEVENT
BEGIN:VEVENT
DTSTART;VALUE=DATE:20200720
DTEND;VALUE=DATE:20200829
DTSTAMP:20260423T224708
CREATED:20200527T091803Z
LAST-MODIFIED:20200527T091803Z
UID:2061-1595203200-1598659199@www.enms.nl
SUMMARY:Zomervakantie
DESCRIPTION:
URL:https://www.enms.nl/agendapunt/zomervakantie-3/
CATEGORIES:Jaarkalender
END:VEVENT
BEGIN:VEVENT
DTSTART;VALUE=DATE:20200717
DTEND;VALUE=DATE:20200718
DTSTAMP:20260423T224708
CREATED:20200602T090525Z
LAST-MODIFIED:20200602T090525Z
UID:2068-1594944000-1595030399@www.enms.nl
SUMMARY:Laatste schooldag; vanaf 12 uur vrij
DESCRIPTION:
URL:https://www.enms.nl/agendapunt/laatste-schooldag-vanaf-12-uur-vrij/
CATEGORIES:Jaarkalender
END:VEVENT
BEGIN:VEVENT
DTSTART;VALUE=DATE:20200714
DTEND;VALUE=DATE:20200715
DTSTAMP:20260423T224708
CREATED:20200604T080529Z
LAST-MODIFIED:20200604T080529Z
UID:2071-1594684800-1594771199@www.enms.nl
SUMMARY:Musicalfilm groep 8
DESCRIPTION:
URL:https://www.enms.nl/agendapunt/musicalfilm-groep-8/
CATEGORIES:Jaarkalender
END:VEVENT
BEGIN:VEVENT
DTSTART;VALUE=DATE:20200713
DTEND;VALUE=DATE:20200714
DTSTAMP:20260423T224708
CREATED:20200602T090332Z
LAST-MODIFIED:20200602T090332Z
UID:2066-1594598400-1594684799@www.enms.nl
SUMMARY:Presentatie eindwerk groep 8
DESCRIPTION:
URL:https://www.enms.nl/agendapunt/presentatie-eindwerk-groep-8-3/
CATEGORIES:Jaarkalender
END:VEVENT
BEGIN:VEVENT
DTSTART;VALUE=DATE:20200706
DTEND;VALUE=DATE:20200710
DTSTAMP:20260423T224708
CREATED:20200602T090200Z
LAST-MODIFIED:20200702T123747Z
UID:2064-1593993600-1594339199@www.enms.nl
SUMMARY:Ouder/kind gesprekken voor groep 3 t/m 7 (facultatief)
DESCRIPTION:
URL:https://www.enms.nl/agendapunt/verslagweek-voor-groep-3-t-m-7-facultatief/
CATEGORIES:Jaarkalender
END:VEVENT
BEGIN:VEVENT
DTSTART;VALUE=DATE:20200702
DTEND;VALUE=DATE:20200703
DTSTAMP:20260423T224708
CREATED:20200527T091543Z
LAST-MODIFIED:20200527T091543Z
UID:2059-1593648000-1593734399@www.enms.nl
SUMMARY:Nieuwsbrief
DESCRIPTION:
URL:https://www.enms.nl/agendapunt/nieuwsbrief-3/
CATEGORIES:Jaarkalender
END:VEVENT
BEGIN:VEVENT
DTSTART;VALUE=DATE:20200618
DTEND;VALUE=DATE:20200619
DTSTAMP:20260423T224708
CREATED:20200514T113428Z
LAST-MODIFIED:20200514T113428Z
UID:2047-1592438400-1592524799@www.enms.nl
SUMMARY:Formatie en groepsindeling bekend
DESCRIPTION:
URL:https://www.enms.nl/agendapunt/formatie-en-groepsindeling-bekend/
CATEGORIES:Jaarkalender
END:VEVENT
BEGIN:VEVENT
DTSTART;VALUE=DATE:20200604
DTEND;VALUE=DATE:20200605
DTSTAMP:20260423T224708
CREATED:20200423T135221Z
LAST-MODIFIED:20200423T135221Z
UID:2044-1591228800-1591315199@www.enms.nl
SUMMARY:Nieuwsbrief
DESCRIPTION:
URL:https://www.enms.nl/agendapunt/nieuwsbrief-2/
CATEGORIES:Jaarkalender
END:VEVENT
BEGIN:VEVENT
DTSTART;VALUE=DATE:20200530
DTEND;VALUE=DATE:20200602
DTSTAMP:20260423T224708
CREATED:20200423T135119Z
LAST-MODIFIED:20200423T135119Z
UID:2042-1590796800-1591055999@www.enms.nl
SUMMARY:Pinksterweekend
DESCRIPTION:
URL:https://www.enms.nl/agendapunt/pinksterweekend-2/
CATEGORIES:Jaarkalender
END:VEVENT
BEGIN:VEVENT
DTSTART;TZID=Europe/Amsterdam:20200527T090000
DTEND;TZID=Europe/Amsterdam:20200527T103000
DTSTAMP:20260423T224708
CREATED:20200401T130804Z
LAST-MODIFIED:20200401T130804Z
UID:2004-1590570000-1590575400@www.enms.nl
SUMMARY:Informatieochtend aspirant ouders
DESCRIPTION:
URL:https://www.enms.nl/agendapunt/informatieochtend-aspirant-ouders-11/
CATEGORIES:Jaarkalender
END:VEVENT
BEGIN:VEVENT
DTSTART;VALUE=DATE:20200521
DTEND;VALUE=DATE:20200525
DTSTAMP:20260423T224708
CREATED:20200401T130711Z
LAST-MODIFIED:20200401T130711Z
UID:2002-1590019200-1590364799@www.enms.nl
SUMMARY:Hemelvaartweekend
DESCRIPTION:
URL:https://www.enms.nl/agendapunt/hemelvaartweekend-2/
CATEGORIES:Jaarkalender
END:VEVENT
END:VCALENDAR