BEGIN:VCALENDAR
VERSION:2.0
PRODID:-//Eerste Nederlandse Montessorischool - ECPv6.8.2.1//NONSGML v1.0//EN
CALSCALE:GREGORIAN
METHOD:PUBLISH
X-WR-CALNAME:Eerste Nederlandse Montessorischool
X-ORIGINAL-URL:https://www.enms.nl
X-WR-CALDESC:Evenementen voor Eerste Nederlandse Montessorischool
REFRESH-INTERVAL;VALUE=DURATION:PT1H
X-Robots-Tag:noindex
X-PUBLISHED-TTL:PT1H
BEGIN:VTIMEZONE
TZID:Europe/Amsterdam
BEGIN:DAYLIGHT
TZOFFSETFROM:+0100
TZOFFSETTO:+0200
TZNAME:CEST
DTSTART:20210328T010000
END:DAYLIGHT
BEGIN:STANDARD
TZOFFSETFROM:+0200
TZOFFSETTO:+0100
TZNAME:CET
DTSTART:20211031T010000
END:STANDARD
END:VTIMEZONE
BEGIN:VEVENT
DTSTART;VALUE=DATE:20210830
DTEND;VALUE=DATE:20210831
DTSTAMP:20260423T181902
CREATED:20210706T093144Z
LAST-MODIFIED:20210706T093144Z
UID:2354-1630281600-1630367999@www.enms.nl
SUMMARY:Eerste schooldag schooljaar 2021-2022
DESCRIPTION:
URL:https://www.enms.nl/agendapunt/eerste-schooldag-schooljaar-2021-2022/
CATEGORIES:Jaarkalender
END:VEVENT
BEGIN:VEVENT
DTSTART;VALUE=DATE:20210719
DTEND;VALUE=DATE:20210828
DTSTAMP:20260423T181902
CREATED:20210603T120754Z
LAST-MODIFIED:20210603T120754Z
UID:2334-1626652800-1630108799@www.enms.nl
SUMMARY:Zomervakantie
DESCRIPTION:
URL:https://www.enms.nl/agendapunt/zomervakantie-4/
CATEGORIES:Jaarkalender
END:VEVENT
BEGIN:VEVENT
DTSTART;VALUE=DATE:20210716
DTEND;VALUE=DATE:20210717
DTSTAMP:20260423T181902
CREATED:20210603T120717Z
LAST-MODIFIED:20210603T120717Z
UID:2332-1626393600-1626479999@www.enms.nl
SUMMARY:Laatste schooldag; 12 uur vrij
DESCRIPTION:
URL:https://www.enms.nl/agendapunt/laatste-schooldag-12-uur-vrij/
CATEGORIES:Jaarkalender
END:VEVENT
BEGIN:VEVENT
DTSTART;VALUE=DATE:20210715
DTEND;VALUE=DATE:20210716
DTSTAMP:20260423T181902
CREATED:20210603T120640Z
LAST-MODIFIED:20210603T120640Z
UID:2330-1626307200-1626393599@www.enms.nl
SUMMARY:Musical
DESCRIPTION:
URL:https://www.enms.nl/agendapunt/musical/
CATEGORIES:Jaarkalender
END:VEVENT
BEGIN:VEVENT
DTSTART;VALUE=DATE:20210714
DTEND;VALUE=DATE:20210715
DTSTAMP:20260423T181902
CREATED:20210603T120613Z
LAST-MODIFIED:20210603T120613Z
UID:2328-1626220800-1626307199@www.enms.nl
SUMMARY:Afscheid oudste kleuters
DESCRIPTION:
URL:https://www.enms.nl/agendapunt/afscheid-oudste-kleuters-2/
CATEGORIES:Jaarkalender
END:VEVENT
BEGIN:VEVENT
DTSTART;VALUE=DATE:20210712
DTEND;VALUE=DATE:20210713
DTSTAMP:20260423T181902
CREATED:20210603T120548Z
LAST-MODIFIED:20210603T120548Z
UID:2326-1626048000-1626134399@www.enms.nl
SUMMARY:Presentatie eindwerk groep 8
DESCRIPTION:
URL:https://www.enms.nl/agendapunt/presentatie-eindwerk-groep-8-4/
CATEGORIES:Jaarkalender
END:VEVENT
BEGIN:VEVENT
DTSTART;VALUE=DATE:20210708
DTEND;VALUE=DATE:20210709
DTSTAMP:20260423T181902
CREATED:20210603T120515Z
LAST-MODIFIED:20210603T120515Z
UID:2324-1625702400-1625788799@www.enms.nl
SUMMARY:Nieuwsbrief
DESCRIPTION:
URL:https://www.enms.nl/agendapunt/nieuwsbrief-13/
CATEGORIES:Jaarkalender
END:VEVENT
BEGIN:VEVENT
DTSTART;VALUE=DATE:20210628
DTEND;VALUE=DATE:20210703
DTSTAMP:20260423T181902
CREATED:20210603T120441Z
LAST-MODIFIED:20210603T120441Z
UID:2322-1624838400-1625270399@www.enms.nl
SUMMARY:Kampweek groep 7 en 8
DESCRIPTION:
URL:https://www.enms.nl/agendapunt/kampweek-groep-7-en-8/
CATEGORIES:Jaarkalender
END:VEVENT
BEGIN:VEVENT
DTSTART;VALUE=DATE:20210621
DTEND;VALUE=DATE:20210626
DTSTAMP:20260423T181902
CREATED:20210520T103455Z
LAST-MODIFIED:20210520T103455Z
UID:2318-1624233600-1624665599@www.enms.nl
SUMMARY:Verslagweek (facultatief)
DESCRIPTION:
URL:https://www.enms.nl/agendapunt/verslagweek-facultatief-3/
CATEGORIES:Jaarkalender
END:VEVENT
BEGIN:VEVENT
DTSTART;VALUE=DATE:20210617
DTEND;VALUE=DATE:20210618
DTSTAMP:20260423T181902
CREATED:20210520T103418Z
LAST-MODIFIED:20210520T103418Z
UID:2316-1623888000-1623974399@www.enms.nl
SUMMARY:Formatie + groepsindeling bekend
DESCRIPTION:
URL:https://www.enms.nl/agendapunt/formatie-groepsindeling-bekend-2/
CATEGORIES:Jaarkalender
END:VEVENT
BEGIN:VEVENT
DTSTART;VALUE=DATE:20210611
DTEND;VALUE=DATE:20210612
DTSTAMP:20260423T181902
CREATED:20210520T103327Z
LAST-MODIFIED:20210520T103327Z
UID:2314-1623369600-1623455999@www.enms.nl
SUMMARY:Juffendag OB/MB/BB
DESCRIPTION:
URL:https://www.enms.nl/agendapunt/juffendag-ob-mb-bb/
CATEGORIES:Jaarkalender
END:VEVENT
BEGIN:VEVENT
DTSTART;VALUE=DATE:20210604
DTEND;VALUE=DATE:20210605
DTSTAMP:20260423T181902
CREATED:20210422T124212Z
LAST-MODIFIED:20210422T124212Z
UID:2311-1622764800-1622851199@www.enms.nl
SUMMARY:Margedag groep 1 t/m 8; studiedag team
DESCRIPTION:
URL:https://www.enms.nl/agendapunt/margedag-groep-1-t-m-8-studiedag-team-3/
CATEGORIES:Jaarkalender
END:VEVENT
BEGIN:VEVENT
DTSTART;VALUE=DATE:20210603
DTEND;VALUE=DATE:20210604
DTSTAMP:20260423T181902
CREATED:20210422T124132Z
LAST-MODIFIED:20210422T124132Z
UID:2309-1622678400-1622764799@www.enms.nl
SUMMARY:Nieuwsbrief
DESCRIPTION:
URL:https://www.enms.nl/agendapunt/nieuwsbrief-12/
CATEGORIES:Jaarkalender
END:VEVENT
BEGIN:VEVENT
DTSTART;VALUE=DATE:20210524
DTEND;VALUE=DATE:20210525
DTSTAMP:20260423T181902
CREATED:20210415T090059Z
LAST-MODIFIED:20210415T090059Z
UID:2303-1621814400-1621900799@www.enms.nl
SUMMARY:Tweede Pinksterdag
DESCRIPTION:
URL:https://www.enms.nl/agendapunt/tweede-pinksterdag-2/
CATEGORIES:Jaarkalender
END:VEVENT
BEGIN:VEVENT
DTSTART;VALUE=DATE:20210513
DTEND;VALUE=DATE:20210515
DTSTAMP:20260423T181902
CREATED:20210415T090006Z
LAST-MODIFIED:20210415T090006Z
UID:2301-1620864000-1621036799@www.enms.nl
SUMMARY:Hemelvaartweekend
DESCRIPTION:
URL:https://www.enms.nl/agendapunt/hemelvaartweekend-3/
CATEGORIES:Jaarkalender
END:VEVENT
BEGIN:VEVENT
DTSTART;VALUE=DATE:20210426
DTEND;VALUE=DATE:20210508
DTSTAMP:20260423T181902
CREATED:20210325T151238Z
LAST-MODIFIED:20210325T151238Z
UID:2294-1619395200-1620431999@www.enms.nl
SUMMARY:Meivakantie
DESCRIPTION:
URL:https://www.enms.nl/agendapunt/meivakantie-4/
CATEGORIES:Jaarkalender
END:VEVENT
BEGIN:VEVENT
DTSTART;VALUE=DATE:20210423
DTEND;VALUE=DATE:20210424
DTSTAMP:20260423T181902
CREATED:20210325T151007Z
LAST-MODIFIED:20210325T151007Z
UID:2292-1619136000-1619222399@www.enms.nl
SUMMARY:Koningsspelen
DESCRIPTION:
URL:https://www.enms.nl/agendapunt/koningsspelen-3/
CATEGORIES:Jaarkalender
END:VEVENT
BEGIN:VEVENT
DTSTART;VALUE=DATE:20210422
DTEND;VALUE=DATE:20210423
DTSTAMP:20260423T181902
CREATED:20210325T150924Z
LAST-MODIFIED:20210325T150924Z
UID:2290-1619049600-1619135999@www.enms.nl
SUMMARY:Nieuwsbrief
DESCRIPTION:
URL:https://www.enms.nl/agendapunt/nieuwsbrief-11/
CATEGORIES:Jaarkalender
END:VEVENT
BEGIN:VEVENT
DTSTART;VALUE=DATE:20210420
DTEND;VALUE=DATE:20210422
DTSTAMP:20260423T181902
CREATED:20210325T150852Z
LAST-MODIFIED:20210325T150852Z
UID:2288-1618876800-1619049599@www.enms.nl
SUMMARY:IEP Eindtoets groep 8
DESCRIPTION:
URL:https://www.enms.nl/agendapunt/iep-eindtoets-groep-8-3/
CATEGORIES:Jaarkalender
END:VEVENT
BEGIN:VEVENT
DTSTART;VALUE=DATE:20210405
DTEND;VALUE=DATE:20210406
DTSTAMP:20260423T181902
CREATED:20210318T145411Z
LAST-MODIFIED:20210318T145411Z
UID:2281-1617580800-1617667199@www.enms.nl
SUMMARY:Tweede Paasdag (geen school)
DESCRIPTION:
URL:https://www.enms.nl/agendapunt/tweede-paasdag-geen-school-2/
CATEGORIES:Jaarkalender
END:VEVENT
BEGIN:VEVENT
DTSTART;VALUE=DATE:20210402
DTEND;VALUE=DATE:20210403
DTSTAMP:20260423T181902
CREATED:20210218T143401Z
LAST-MODIFIED:20210218T143401Z
UID:2259-1617321600-1617407999@www.enms.nl
SUMMARY:Goede Vrijdag (geen school)
DESCRIPTION:
URL:https://www.enms.nl/agendapunt/goede-vrijdag-geen-school-2/
CATEGORIES:Jaarkalender
END:VEVENT
BEGIN:VEVENT
DTSTART;VALUE=DATE:20210401
DTEND;VALUE=DATE:20210402
DTSTAMP:20260423T181902
CREATED:20210218T143330Z
LAST-MODIFIED:20210218T143330Z
UID:2257-1617235200-1617321599@www.enms.nl
SUMMARY:Paasviering
DESCRIPTION:
URL:https://www.enms.nl/agendapunt/paasviering-2/
CATEGORIES:Jaarkalender
END:VEVENT
BEGIN:VEVENT
DTSTART;VALUE=DATE:20210329
DTEND;VALUE=DATE:20210402
DTSTAMP:20260423T181902
CREATED:20210218T143220Z
LAST-MODIFIED:20210325T150747Z
UID:2253-1616976000-1617321599@www.enms.nl
SUMMARY:Ouder/kind gesprekken
DESCRIPTION:
URL:https://www.enms.nl/agendapunt/ouder-kind-gesprekken-via-teams/
CATEGORIES:Jaarkalender
END:VEVENT
BEGIN:VEVENT
DTSTART;VALUE=DATE:20210326
DTEND;VALUE=DATE:20210327
DTSTAMP:20260423T181902
CREATED:20210218T143137Z
LAST-MODIFIED:20210218T143137Z
UID:2251-1616716800-1616803199@www.enms.nl
SUMMARY:Groep 3 t/m 8 verslag mee naar huis
DESCRIPTION:
URL:https://www.enms.nl/agendapunt/groep-3-t-m-8-verslag-mee-naar-huis/
CATEGORIES:Jaarkalender
END:VEVENT
BEGIN:VEVENT
DTSTART;VALUE=DATE:20210325
DTEND;VALUE=DATE:20210326
DTSTAMP:20260423T181902
CREATED:20210218T143103Z
LAST-MODIFIED:20210218T143103Z
UID:2249-1616630400-1616716799@www.enms.nl
SUMMARY:Nieuwsbrief
DESCRIPTION:
URL:https://www.enms.nl/agendapunt/nieuwsbrief-10/
CATEGORIES:Jaarkalender
END:VEVENT
BEGIN:VEVENT
DTSTART;VALUE=DATE:20210303
DTEND;VALUE=DATE:20210318
DTSTAMP:20260423T181902
CREATED:20210218T143017Z
LAST-MODIFIED:20210218T143017Z
UID:2247-1614729600-1616025599@www.enms.nl
SUMMARY:IEP-toetsen groep 3 t/m 7
DESCRIPTION:
URL:https://www.enms.nl/agendapunt/iep-toetsen-groep-3-t-m-7/
CATEGORIES:Jaarkalender
END:VEVENT
BEGIN:VEVENT
DTSTART;VALUE=DATE:20210222
DTEND;VALUE=DATE:20210227
DTSTAMP:20260423T181902
CREATED:20210204T111959Z
LAST-MODIFIED:20210204T111959Z
UID:2234-1613952000-1614383999@www.enms.nl
SUMMARY:Voorjaarsvakantie
DESCRIPTION:
URL:https://www.enms.nl/agendapunt/voorjaarsvakantie-4/
CATEGORIES:Jaarkalender
END:VEVENT
BEGIN:VEVENT
DTSTART;VALUE=DATE:20210218
DTEND;VALUE=DATE:20210219
DTSTAMP:20260423T181902
CREATED:20210204T111911Z
LAST-MODIFIED:20210204T111911Z
UID:2232-1613606400-1613692799@www.enms.nl
SUMMARY:Nieuwsbrief
DESCRIPTION:
URL:https://www.enms.nl/agendapunt/nieuwsbrief-9/
CATEGORIES:Jaarkalender
END:VEVENT
BEGIN:VEVENT
DTSTART;VALUE=DATE:20210128
DTEND;VALUE=DATE:20210129
DTSTAMP:20260423T181902
CREATED:20201210T150503Z
LAST-MODIFIED:20210126T092119Z
UID:2210-1611792000-1611878399@www.enms.nl
SUMMARY:Nieuwsbrief
DESCRIPTION:
URL:https://www.enms.nl/agendapunt/nieuwsbrief-8/
CATEGORIES:Jaarkalender
END:VEVENT
BEGIN:VEVENT
DTSTART;VALUE=DATE:20210104
DTEND;VALUE=DATE:20210208
DTSTAMP:20260423T181902
CREATED:20201216T112003Z
LAST-MODIFIED:20210120T103402Z
UID:2215-1609718400-1612742399@www.enms.nl
SUMMARY:School gesloten i.v.m. corona (onderwijs op afstand)
DESCRIPTION:
URL:https://www.enms.nl/agendapunt/school-gesloten-i-v-m-corona/
CATEGORIES:Jaarkalender
END:VEVENT
END:VCALENDAR