BEGIN:VCALENDAR
VERSION:2.0
PRODID:-//Eerste Nederlandse Montessorischool - ECPv6.8.2.1//NONSGML v1.0//EN
CALSCALE:GREGORIAN
METHOD:PUBLISH
X-ORIGINAL-URL:https://www.enms.nl
X-WR-CALDESC:Evenementen voor Eerste Nederlandse Montessorischool
REFRESH-INTERVAL;VALUE=DURATION:PT1H
X-Robots-Tag:noindex
X-PUBLISHED-TTL:PT1H
BEGIN:VTIMEZONE
TZID:Europe/Amsterdam
BEGIN:DAYLIGHT
TZOFFSETFROM:+0100
TZOFFSETTO:+0200
TZNAME:CEST
DTSTART:20210328T010000
END:DAYLIGHT
BEGIN:STANDARD
TZOFFSETFROM:+0200
TZOFFSETTO:+0100
TZNAME:CET
DTSTART:20211031T010000
END:STANDARD
END:VTIMEZONE
BEGIN:VEVENT
DTSTART;VALUE=DATE:20211122
DTEND;VALUE=DATE:20211203
DTSTAMP:20260423T133838
CREATED:20211104T085844Z
LAST-MODIFIED:20211104T085844Z
UID:2456-1637539200-1638489599@www.enms.nl
SUMMARY:Groep 8 IEP
DESCRIPTION:
URL:https://www.enms.nl/agendapunt/groep-8-iep/
CATEGORIES:Jaarkalender
END:VEVENT
BEGIN:VEVENT
DTSTART;VALUE=DATE:20211122
DTEND;VALUE=DATE:20211127
DTSTAMP:20260423T133838
CREATED:20211104T085639Z
LAST-MODIFIED:20211104T085639Z
UID:2454-1637539200-1637971199@www.enms.nl
SUMMARY:Verslagweek
DESCRIPTION:
URL:https://www.enms.nl/agendapunt/verslagweek-7/
CATEGORIES:Jaarkalender
END:VEVENT
BEGIN:VEVENT
DTSTART;VALUE=DATE:20211122
DTEND;VALUE=DATE:20211123
DTSTAMP:20260423T133838
CREATED:20211104T085602Z
LAST-MODIFIED:20211104T085602Z
UID:2452-1637539200-1637625599@www.enms.nl
SUMMARY:Montessori ouderavond 3
DESCRIPTION:
URL:https://www.enms.nl/agendapunt/montessori-ouderavond-3/
CATEGORIES:Jaarkalender
END:VEVENT
BEGIN:VEVENT
DTSTART;VALUE=DATE:20211119
DTEND;VALUE=DATE:20211120
DTSTAMP:20260423T133838
CREATED:20211026T142439Z
LAST-MODIFIED:20211026T142439Z
UID:2441-1637280000-1637366399@www.enms.nl
SUMMARY:Voorstelling OB-1\, MB-1\, BB-1 (zonder ouders)
DESCRIPTION:
URL:https://www.enms.nl/agendapunt/voorstelling-ob-1-mb-1-bb-1-zonder-ouders/
CATEGORIES:Jaarkalender
END:VEVENT
BEGIN:VEVENT
DTSTART;VALUE=DATE:20211118
DTEND;VALUE=DATE:20211119
DTSTAMP:20260423T133838
CREATED:20211026T142356Z
LAST-MODIFIED:20211026T142356Z
UID:2439-1637193600-1637279999@www.enms.nl
SUMMARY:Nieuwsbrief
DESCRIPTION:
URL:https://www.enms.nl/agendapunt/nieuwsbrief-16/
CATEGORIES:Jaarkalender
END:VEVENT
BEGIN:VEVENT
DTSTART;TZID=Europe/Amsterdam:20211110T090000
DTEND;TZID=Europe/Amsterdam:20211110T103000
DTSTAMP:20260423T133838
CREATED:20211007T081003Z
LAST-MODIFIED:20211007T081003Z
UID:2426-1636534800-1636540200@www.enms.nl
SUMMARY:Informatieochtend aspirant ouders
DESCRIPTION:
URL:https://www.enms.nl/agendapunt/informatieochtend-aspirant-ouders-14/
CATEGORIES:Jaarkalender
END:VEVENT
BEGIN:VEVENT
DTSTART;VALUE=DATE:20211108
DTEND;VALUE=DATE:20211109
DTSTAMP:20260423T133838
CREATED:20211007T080923Z
LAST-MODIFIED:20211007T080923Z
UID:2424-1636329600-1636415999@www.enms.nl
SUMMARY:Montessori ouderavond 2
DESCRIPTION:
URL:https://www.enms.nl/agendapunt/montessori-ouderavond-2/
CATEGORIES:Jaarkalender
END:VEVENT
BEGIN:VEVENT
DTSTART;TZID=Europe/Amsterdam:20211103T083000
DTEND;TZID=Europe/Amsterdam:20211103T093000
DTSTAMP:20260423T133838
CREATED:20211007T080050Z
LAST-MODIFIED:20211007T080050Z
UID:2422-1635928200-1635931800@www.enms.nl
SUMMARY:Montessori Café
DESCRIPTION:
URL:https://www.enms.nl/agendapunt/montessori-cafe-19/
CATEGORIES:Jaarkalender
END:VEVENT
BEGIN:VEVENT
DTSTART;VALUE=DATE:20211103
DTEND;VALUE=DATE:20211104
DTSTAMP:20260423T133838
CREATED:20210916T132501Z
LAST-MODIFIED:20211026T142229Z
UID:2406-1635897600-1635983999@www.enms.nl
SUMMARY:Voorstelling OB-4\, MB-4 en BB-4 (zonder ouders)
DESCRIPTION:
URL:https://www.enms.nl/agendapunt/voorstelling-ob-4-mb-4-en-bb-4-zonder-ouders-2/
CATEGORIES:Jaarkalender
END:VEVENT
BEGIN:VEVENT
DTSTART;VALUE=DATE:20211025
DTEND;VALUE=DATE:20211026
DTSTAMP:20260423T133838
CREATED:20211007T080012Z
LAST-MODIFIED:20211007T080012Z
UID:2420-1635120000-1635206399@www.enms.nl
SUMMARY:Montessori ouderavond 1
DESCRIPTION:
URL:https://www.enms.nl/agendapunt/montessori-ouderavond-1/
CATEGORIES:Jaarkalender
END:VEVENT
BEGIN:VEVENT
DTSTART;VALUE=DATE:20211018
DTEND;VALUE=DATE:20211023
DTSTAMP:20260423T133838
CREATED:20210916T132544Z
LAST-MODIFIED:20210916T132544Z
UID:2408-1634515200-1634947199@www.enms.nl
SUMMARY:Herfstvakantie
DESCRIPTION:
URL:https://www.enms.nl/agendapunt/herfstvakantie-5/
CATEGORIES:Jaarkalender
END:VEVENT
BEGIN:VEVENT
DTSTART;VALUE=DATE:20211014
DTEND;VALUE=DATE:20211015
DTSTAMP:20260423T133838
CREATED:20210916T132416Z
LAST-MODIFIED:20210916T132416Z
UID:2404-1634169600-1634255999@www.enms.nl
SUMMARY:Nieuwsbrief
DESCRIPTION:
URL:https://www.enms.nl/agendapunt/nieuwsbrief-15/
CATEGORIES:Jaarkalender
END:VEVENT
BEGIN:VEVENT
DTSTART;VALUE=DATE:20211007
DTEND;VALUE=DATE:20211009
DTSTAMP:20260423T133838
CREATED:20210831T101619Z
LAST-MODIFIED:20210831T101619Z
UID:2389-1633564800-1633737599@www.enms.nl
SUMMARY:Schoolfotograaf
DESCRIPTION:
URL:https://www.enms.nl/agendapunt/schoolfotograaf/
CATEGORIES:Jaarkalender
END:VEVENT
BEGIN:VEVENT
DTSTART;VALUE=DATE:20211006
DTEND;VALUE=DATE:20211018
DTSTAMP:20260423T133838
CREATED:20210831T101539Z
LAST-MODIFIED:20210831T101539Z
UID:2387-1633478400-1634515199@www.enms.nl
SUMMARY:Kinderboekenweek
DESCRIPTION:
URL:https://www.enms.nl/agendapunt/kinderboekenweek-3/
CATEGORIES:Jaarkalender
END:VEVENT
BEGIN:VEVENT
DTSTART;VALUE=DATE:20210927
DTEND;VALUE=DATE:20211002
DTSTAMP:20260423T133838
CREATED:20210831T101424Z
LAST-MODIFIED:20210831T101424Z
UID:2385-1632700800-1633132799@www.enms.nl
SUMMARY:Afrika week
DESCRIPTION:
URL:https://www.enms.nl/agendapunt/afrika-week/
CATEGORIES:Jaarkalender
END:VEVENT
BEGIN:VEVENT
DTSTART;TZID=Europe/Amsterdam:20210924T083000
DTEND;TZID=Europe/Amsterdam:20210924T093000
DTSTAMP:20260423T133838
CREATED:20210831T101337Z
LAST-MODIFIED:20210831T101337Z
UID:2383-1632472200-1632475800@www.enms.nl
SUMMARY:Montessori Café
DESCRIPTION:
URL:https://www.enms.nl/agendapunt/montessori-cafe-18/
CATEGORIES:Jaarkalender
END:VEVENT
BEGIN:VEVENT
DTSTART;VALUE=DATE:20210921
DTEND;VALUE=DATE:20210922
DTSTAMP:20260423T133838
CREATED:20210831T101239Z
LAST-MODIFIED:20210831T101239Z
UID:2381-1632182400-1632268799@www.enms.nl
SUMMARY:Prinsjesdag; geen school
DESCRIPTION:
URL:https://www.enms.nl/agendapunt/prinsjesdag-geen-school-4/
CATEGORIES:Jaarkalender
END:VEVENT
BEGIN:VEVENT
DTSTART;VALUE=DATE:20210920
DTEND;VALUE=DATE:20210921
DTSTAMP:20260423T133838
CREATED:20210831T101211Z
LAST-MODIFIED:20210831T101211Z
UID:2379-1632096000-1632182399@www.enms.nl
SUMMARY:Margedag groep 1 t/m 8; Studiedag team
DESCRIPTION:
URL:https://www.enms.nl/agendapunt/margedag-groep-1-t-m-8-studiedag-team-4/
CATEGORIES:Jaarkalender
END:VEVENT
BEGIN:VEVENT
DTSTART;VALUE=DATE:20210916
DTEND;VALUE=DATE:20210917
DTSTAMP:20260423T133838
CREATED:20210831T101135Z
LAST-MODIFIED:20210831T101135Z
UID:2377-1631750400-1631836799@www.enms.nl
SUMMARY:Nieuwsbrief
DESCRIPTION:
URL:https://www.enms.nl/agendapunt/nieuwsbrief-14/
CATEGORIES:Jaarkalender
END:VEVENT
BEGIN:VEVENT
DTSTART;TZID=Europe/Amsterdam:20210908T090000
DTEND;TZID=Europe/Amsterdam:20210908T103000
DTSTAMP:20260423T133838
CREATED:20210706T093230Z
LAST-MODIFIED:20210706T093230Z
UID:2356-1631091600-1631097000@www.enms.nl
SUMMARY:Informatieochtend aspirant ouders
DESCRIPTION:
URL:https://www.enms.nl/agendapunt/informatieochtend-aspirant-ouders-13/
CATEGORIES:Jaarkalender
END:VEVENT
BEGIN:VEVENT
DTSTART;VALUE=DATE:20210830
DTEND;VALUE=DATE:20210831
DTSTAMP:20260423T133838
CREATED:20210706T093144Z
LAST-MODIFIED:20210706T093144Z
UID:2354-1630281600-1630367999@www.enms.nl
SUMMARY:Eerste schooldag schooljaar 2021-2022
DESCRIPTION:
URL:https://www.enms.nl/agendapunt/eerste-schooldag-schooljaar-2021-2022/
CATEGORIES:Jaarkalender
END:VEVENT
BEGIN:VEVENT
DTSTART;VALUE=DATE:20210719
DTEND;VALUE=DATE:20210828
DTSTAMP:20260423T133838
CREATED:20210603T120754Z
LAST-MODIFIED:20210603T120754Z
UID:2334-1626652800-1630108799@www.enms.nl
SUMMARY:Zomervakantie
DESCRIPTION:
URL:https://www.enms.nl/agendapunt/zomervakantie-4/
CATEGORIES:Jaarkalender
END:VEVENT
BEGIN:VEVENT
DTSTART;VALUE=DATE:20210716
DTEND;VALUE=DATE:20210717
DTSTAMP:20260423T133838
CREATED:20210603T120717Z
LAST-MODIFIED:20210603T120717Z
UID:2332-1626393600-1626479999@www.enms.nl
SUMMARY:Laatste schooldag; 12 uur vrij
DESCRIPTION:
URL:https://www.enms.nl/agendapunt/laatste-schooldag-12-uur-vrij/
CATEGORIES:Jaarkalender
END:VEVENT
BEGIN:VEVENT
DTSTART;VALUE=DATE:20210715
DTEND;VALUE=DATE:20210716
DTSTAMP:20260423T133838
CREATED:20210603T120640Z
LAST-MODIFIED:20210603T120640Z
UID:2330-1626307200-1626393599@www.enms.nl
SUMMARY:Musical
DESCRIPTION:
URL:https://www.enms.nl/agendapunt/musical/
CATEGORIES:Jaarkalender
END:VEVENT
BEGIN:VEVENT
DTSTART;VALUE=DATE:20210714
DTEND;VALUE=DATE:20210715
DTSTAMP:20260423T133838
CREATED:20210603T120613Z
LAST-MODIFIED:20210603T120613Z
UID:2328-1626220800-1626307199@www.enms.nl
SUMMARY:Afscheid oudste kleuters
DESCRIPTION:
URL:https://www.enms.nl/agendapunt/afscheid-oudste-kleuters-2/
CATEGORIES:Jaarkalender
END:VEVENT
BEGIN:VEVENT
DTSTART;VALUE=DATE:20210712
DTEND;VALUE=DATE:20210713
DTSTAMP:20260423T133838
CREATED:20210603T120548Z
LAST-MODIFIED:20210603T120548Z
UID:2326-1626048000-1626134399@www.enms.nl
SUMMARY:Presentatie eindwerk groep 8
DESCRIPTION:
URL:https://www.enms.nl/agendapunt/presentatie-eindwerk-groep-8-4/
CATEGORIES:Jaarkalender
END:VEVENT
BEGIN:VEVENT
DTSTART;VALUE=DATE:20210708
DTEND;VALUE=DATE:20210709
DTSTAMP:20260423T133838
CREATED:20210603T120515Z
LAST-MODIFIED:20210603T120515Z
UID:2324-1625702400-1625788799@www.enms.nl
SUMMARY:Nieuwsbrief
DESCRIPTION:
URL:https://www.enms.nl/agendapunt/nieuwsbrief-13/
CATEGORIES:Jaarkalender
END:VEVENT
BEGIN:VEVENT
DTSTART;VALUE=DATE:20210628
DTEND;VALUE=DATE:20210703
DTSTAMP:20260423T133838
CREATED:20210603T120441Z
LAST-MODIFIED:20210603T120441Z
UID:2322-1624838400-1625270399@www.enms.nl
SUMMARY:Kampweek groep 7 en 8
DESCRIPTION:
URL:https://www.enms.nl/agendapunt/kampweek-groep-7-en-8/
CATEGORIES:Jaarkalender
END:VEVENT
BEGIN:VEVENT
DTSTART;VALUE=DATE:20210621
DTEND;VALUE=DATE:20210626
DTSTAMP:20260423T133838
CREATED:20210520T103455Z
LAST-MODIFIED:20210520T103455Z
UID:2318-1624233600-1624665599@www.enms.nl
SUMMARY:Verslagweek (facultatief)
DESCRIPTION:
URL:https://www.enms.nl/agendapunt/verslagweek-facultatief-3/
CATEGORIES:Jaarkalender
END:VEVENT
BEGIN:VEVENT
DTSTART;VALUE=DATE:20210617
DTEND;VALUE=DATE:20210618
DTSTAMP:20260423T133838
CREATED:20210520T103418Z
LAST-MODIFIED:20210520T103418Z
UID:2316-1623888000-1623974399@www.enms.nl
SUMMARY:Formatie + groepsindeling bekend
DESCRIPTION:
URL:https://www.enms.nl/agendapunt/formatie-groepsindeling-bekend-2/
CATEGORIES:Jaarkalender
END:VEVENT
END:VCALENDAR