BEGIN:VCALENDAR
VERSION:2.0
PRODID:-//Eerste Nederlandse Montessorischool - ECPv6.8.2.1//NONSGML v1.0//EN
CALSCALE:GREGORIAN
METHOD:PUBLISH
X-ORIGINAL-URL:https://www.enms.nl
X-WR-CALDESC:Evenementen voor Eerste Nederlandse Montessorischool
REFRESH-INTERVAL;VALUE=DURATION:PT1H
X-Robots-Tag:noindex
X-PUBLISHED-TTL:PT1H
BEGIN:VTIMEZONE
TZID:Europe/Amsterdam
BEGIN:DAYLIGHT
TZOFFSETFROM:+0100
TZOFFSETTO:+0200
TZNAME:CEST
DTSTART:20220327T010000
END:DAYLIGHT
BEGIN:STANDARD
TZOFFSETFROM:+0200
TZOFFSETTO:+0100
TZNAME:CET
DTSTART:20221030T010000
END:STANDARD
END:VTIMEZONE
BEGIN:VEVENT
DTSTART;VALUE=DATE:20220915
DTEND;VALUE=DATE:20220916
DTSTAMP:20260421T045030
CREATED:20220908T141444Z
LAST-MODIFIED:20220908T141444Z
UID:2697-1663200000-1663286399@www.enms.nl
SUMMARY:Ophaalmoment in de klas bovenbouw
DESCRIPTION:
URL:https://www.enms.nl/agendapunt/ophaalmoment-in-de-klas-bovenbouw/
CATEGORIES:Jaarkalender
END:VEVENT
BEGIN:VEVENT
DTSTART;TZID=Europe/Amsterdam:20220914T121500
DTEND;TZID=Europe/Amsterdam:20220914T130000
DTSTAMP:20260421T045030
CREATED:20220908T141303Z
LAST-MODIFIED:20220908T141303Z
UID:2693-1663157700-1663160400@www.enms.nl
SUMMARY:Informatiemiddag leesonderwijs groep 3
DESCRIPTION:
URL:https://www.enms.nl/agendapunt/informatiemiddag-leesonderwijs-groep-3/
CATEGORIES:Jaarkalender
END:VEVENT
BEGIN:VEVENT
DTSTART;VALUE=DATE:20220914
DTEND;VALUE=DATE:20220915
DTSTAMP:20260421T045030
CREATED:20220908T141403Z
LAST-MODIFIED:20220908T141403Z
UID:2695-1663113600-1663199999@www.enms.nl
SUMMARY:Ophaalmoment in de klas middenbouw
DESCRIPTION:
URL:https://www.enms.nl/agendapunt/ophaalmoment-in-de-klas-middenbouw/
CATEGORIES:Jaarkalender
END:VEVENT
BEGIN:VEVENT
DTSTART;VALUE=DATE:20220913
DTEND;VALUE=DATE:20220914
DTSTAMP:20260421T045030
CREATED:20220908T141153Z
LAST-MODIFIED:20220908T141153Z
UID:2691-1663027200-1663113599@www.enms.nl
SUMMARY:Ophaalmoment in de klas onderbouw
DESCRIPTION:
URL:https://www.enms.nl/agendapunt/ophaalmoment-in-de-klas-onderbouw/
CATEGORIES:Jaarkalender
END:VEVENT
BEGIN:VEVENT
DTSTART;VALUE=DATE:20220908
DTEND;VALUE=DATE:20220909
DTSTAMP:20260421T045030
CREATED:20220707T083550Z
LAST-MODIFIED:20220707T083550Z
UID:2654-1662595200-1662681599@www.enms.nl
SUMMARY:Nieuwsbrief
DESCRIPTION:
URL:https://www.enms.nl/agendapunt/nieuwsbrief-23/
CATEGORIES:Jaarkalender
END:VEVENT
BEGIN:VEVENT
DTSTART;TZID=Europe/Amsterdam:20220907T090000
DTEND;TZID=Europe/Amsterdam:20220907T103000
DTSTAMP:20260421T045030
CREATED:20220707T083522Z
LAST-MODIFIED:20220707T083522Z
UID:2652-1662541200-1662546600@www.enms.nl
SUMMARY:Informatieochtend aspirant ouders
DESCRIPTION:
URL:https://www.enms.nl/agendapunt/informatieochtend-aspirant-ouders-17/
CATEGORIES:Jaarkalender
END:VEVENT
BEGIN:VEVENT
DTSTART;VALUE=DATE:20220822
DTEND;VALUE=DATE:20220823
DTSTAMP:20260421T045030
CREATED:20220707T083432Z
LAST-MODIFIED:20220707T083432Z
UID:2650-1661126400-1661212799@www.enms.nl
SUMMARY:Eerste schooldag nieuwe schooljaar
DESCRIPTION:
URL:https://www.enms.nl/agendapunt/eerste-schooldag-nieuwe-schooljaar/
CATEGORIES:Jaarkalender
END:VEVENT
BEGIN:VEVENT
DTSTART;VALUE=DATE:20220711
DTEND;VALUE=DATE:20220820
DTSTAMP:20260421T045030
CREATED:20220616T072153Z
LAST-MODIFIED:20220616T072153Z
UID:2635-1657497600-1660953599@www.enms.nl
SUMMARY:Zomervakantie
DESCRIPTION:
URL:https://www.enms.nl/agendapunt/zomervakantie-5/
CATEGORIES:Jaarkalender
END:VEVENT
BEGIN:VEVENT
DTSTART;VALUE=DATE:20220708
DTEND;VALUE=DATE:20220709
DTSTAMP:20260421T045030
CREATED:20220616T072118Z
LAST-MODIFIED:20220616T072118Z
UID:2633-1657238400-1657324799@www.enms.nl
SUMMARY:Laatste schooldag; om 12 uur vrij
DESCRIPTION:
URL:https://www.enms.nl/agendapunt/laatste-schooldag-om-12-uur-vrij/
CATEGORIES:Jaarkalender
END:VEVENT
BEGIN:VEVENT
DTSTART;VALUE=DATE:20220706
DTEND;VALUE=DATE:20220709
DTSTAMP:20260421T045030
CREATED:20220616T072040Z
LAST-MODIFIED:20220616T072040Z
UID:2631-1657065600-1657324799@www.enms.nl
SUMMARY:Groep 8 vrij
DESCRIPTION:
URL:https://www.enms.nl/agendapunt/groep-8-vrij/
CATEGORIES:Jaarkalender
END:VEVENT
BEGIN:VEVENT
DTSTART;VALUE=DATE:20220706
DTEND;VALUE=DATE:20220707
DTSTAMP:20260421T045030
CREATED:20220616T071958Z
LAST-MODIFIED:20220616T071958Z
UID:2629-1657065600-1657151999@www.enms.nl
SUMMARY:Afscheid oudste kleuters
DESCRIPTION:
URL:https://www.enms.nl/agendapunt/afscheid-oudste-kleuters-3/
CATEGORIES:Jaarkalender
END:VEVENT
BEGIN:VEVENT
DTSTART;VALUE=DATE:20220705
DTEND;VALUE=DATE:20220706
DTSTAMP:20260421T045030
CREATED:20220616T071925Z
LAST-MODIFIED:20220616T071925Z
UID:2627-1656979200-1657065599@www.enms.nl
SUMMARY:Afscheid groep 8
DESCRIPTION:
URL:https://www.enms.nl/agendapunt/afscheid-groep-8/
CATEGORIES:Jaarkalender
END:VEVENT
BEGIN:VEVENT
DTSTART;TZID=Europe/Amsterdam:20220704T170000
DTEND;TZID=Europe/Amsterdam:20220704T183000
DTSTAMP:20260421T045030
CREATED:20220616T071750Z
LAST-MODIFIED:20220616T071750Z
UID:2625-1656954000-1656959400@www.enms.nl
SUMMARY:Presentatie eindwerk groep 8
DESCRIPTION:
URL:https://www.enms.nl/agendapunt/presentatie-eindwerk-groep-8-5/
CATEGORIES:Jaarkalender
END:VEVENT
BEGIN:VEVENT
DTSTART;VALUE=DATE:20220701
DTEND;VALUE=DATE:20220702
DTSTAMP:20260421T045030
CREATED:20220602T141407Z
LAST-MODIFIED:20220602T141407Z
UID:2622-1656633600-1656719999@www.enms.nl
SUMMARY:Zomerfeest
DESCRIPTION:
URL:https://www.enms.nl/agendapunt/zomerfeest/
CATEGORIES:Jaarkalender
END:VEVENT
BEGIN:VEVENT
DTSTART;VALUE=DATE:20220630
DTEND;VALUE=DATE:20220701
DTSTAMP:20260421T045030
CREATED:20220602T141341Z
LAST-MODIFIED:20220602T141341Z
UID:2620-1656547200-1656633599@www.enms.nl
SUMMARY:Nieuwsbrief; groep 8 vrij
DESCRIPTION:
URL:https://www.enms.nl/agendapunt/nieuwsbrief-groep-8-vrij/
CATEGORIES:Jaarkalender
END:VEVENT
BEGIN:VEVENT
DTSTART;VALUE=DATE:20220629
DTEND;VALUE=DATE:20220630
DTSTAMP:20260421T045030
CREATED:20220602T141300Z
LAST-MODIFIED:20220602T141300Z
UID:2618-1656460800-1656547199@www.enms.nl
SUMMARY:Musical groep 8
DESCRIPTION:
URL:https://www.enms.nl/agendapunt/musical-groep-8-3/
CATEGORIES:Jaarkalender
END:VEVENT
BEGIN:VEVENT
DTSTART;VALUE=DATE:20220627
DTEND;VALUE=DATE:20220628
DTSTAMP:20260421T045030
CREATED:20220602T141231Z
LAST-MODIFIED:20220602T141231Z
UID:2616-1656288000-1656374399@www.enms.nl
SUMMARY:Sportdag groep 8
DESCRIPTION:
URL:https://www.enms.nl/agendapunt/sportdag-groep-8/
CATEGORIES:Jaarkalender
END:VEVENT
BEGIN:VEVENT
DTSTART;VALUE=DATE:20220623
DTEND;VALUE=DATE:20220624
DTSTAMP:20260421T045030
CREATED:20220602T141200Z
LAST-MODIFIED:20220602T141200Z
UID:2614-1655942400-1656028799@www.enms.nl
SUMMARY:Olympiade groep 8
DESCRIPTION:
URL:https://www.enms.nl/agendapunt/olympiade-groep-8/
CATEGORIES:Jaarkalender
END:VEVENT
BEGIN:VEVENT
DTSTART;VALUE=DATE:20220620
DTEND;VALUE=DATE:20220625
DTSTAMP:20260421T045030
CREATED:20220602T141120Z
LAST-MODIFIED:20220602T141120Z
UID:2612-1655683200-1656115199@www.enms.nl
SUMMARY:Verslagweek
DESCRIPTION:
URL:https://www.enms.nl/agendapunt/verslagweek-9/
CATEGORIES:Jaarkalender
END:VEVENT
BEGIN:VEVENT
DTSTART;VALUE=DATE:20220609
DTEND;VALUE=DATE:20220610
DTSTAMP:20260421T045030
CREATED:20220525T093027Z
LAST-MODIFIED:20220525T093027Z
UID:2606-1654732800-1654819199@www.enms.nl
SUMMARY:Formatie en groepsindeling 2022-2023 bekend
DESCRIPTION:
URL:https://www.enms.nl/agendapunt/formatie-en-groepsindeling-2022-2023-bekend/
CATEGORIES:Jaarkalender
END:VEVENT
BEGIN:VEVENT
DTSTART;VALUE=DATE:20220607
DTEND;VALUE=DATE:20220608
DTSTAMP:20260421T045030
CREATED:20220421T132219Z
LAST-MODIFIED:20220421T132537Z
UID:2589-1654560000-1654646399@www.enms.nl
SUMMARY:Margedag groep 1 t/m 8 / Studiedag team
DESCRIPTION:
URL:https://www.enms.nl/agendapunt/margedag-groep-1-t-m-8-studiedag-team-7/
CATEGORIES:Jaarkalender
END:VEVENT
BEGIN:VEVENT
DTSTART;VALUE=DATE:20220606
DTEND;VALUE=DATE:20220607
DTSTAMP:20260421T045030
CREATED:20220421T132037Z
LAST-MODIFIED:20220421T132037Z
UID:2587-1654473600-1654559999@www.enms.nl
SUMMARY:Tweede Pinksterdag
DESCRIPTION:
URL:https://www.enms.nl/agendapunt/tweede-pinksterdag-3/
CATEGORIES:Jaarkalender
END:VEVENT
BEGIN:VEVENT
DTSTART;TZID=Europe/Amsterdam:20220603T083000
DTEND;TZID=Europe/Amsterdam:20220603T093000
DTSTAMP:20260421T045030
CREATED:20220421T131916Z
LAST-MODIFIED:20220421T131916Z
UID:2585-1654245000-1654248600@www.enms.nl
SUMMARY:Montessori Café
DESCRIPTION:
URL:https://www.enms.nl/agendapunt/montessori-cafe-20/
CATEGORIES:Jaarkalender
END:VEVENT
BEGIN:VEVENT
DTSTART;VALUE=DATE:20220603
DTEND;VALUE=DATE:20220604
DTSTAMP:20260421T045030
CREATED:20220525T092933Z
LAST-MODIFIED:20220525T092933Z
UID:2604-1654214400-1654300799@www.enms.nl
SUMMARY:Groep 8 naar het Rijksmuseum
DESCRIPTION:
URL:https://www.enms.nl/agendapunt/groep-8-naar-het-rijksmuseum/
CATEGORIES:Jaarkalender
END:VEVENT
BEGIN:VEVENT
DTSTART;VALUE=DATE:20220602
DTEND;VALUE=DATE:20220603
DTSTAMP:20260421T045030
CREATED:20220421T131550Z
LAST-MODIFIED:20220421T131550Z
UID:2583-1654128000-1654214399@www.enms.nl
SUMMARY:Nieuwsbrief
DESCRIPTION:
URL:https://www.enms.nl/agendapunt/nieuwsbrief-22/
CATEGORIES:Jaarkalender
END:VEVENT
BEGIN:VEVENT
DTSTART;VALUE=DATE:20220526
DTEND;VALUE=DATE:20220530
DTSTAMP:20260421T045030
CREATED:20220414T073048Z
LAST-MODIFIED:20220414T073048Z
UID:2575-1653523200-1653868799@www.enms.nl
SUMMARY:Hemelvaartweekend
DESCRIPTION:
URL:https://www.enms.nl/agendapunt/hemelvaartweekend-4/
CATEGORIES:Jaarkalender
END:VEVENT
BEGIN:VEVENT
DTSTART;TZID=Europe/Amsterdam:20220525T090000
DTEND;TZID=Europe/Amsterdam:20220525T103000
DTSTAMP:20260421T045030
CREATED:20220414T073007Z
LAST-MODIFIED:20220414T073007Z
UID:2573-1653469200-1653474600@www.enms.nl
SUMMARY:Informatieochtend aspirant ouders
DESCRIPTION:
URL:https://www.enms.nl/agendapunt/informatieochtend-aspirant-ouders-16/
CATEGORIES:Jaarkalender
END:VEVENT
BEGIN:VEVENT
DTSTART;VALUE=DATE:20220523
DTEND;VALUE=DATE:20220524
DTSTAMP:20260421T045030
CREATED:20220414T072906Z
LAST-MODIFIED:20220414T072906Z
UID:2571-1653264000-1653350399@www.enms.nl
SUMMARY:Bovenbouw naar het theater
DESCRIPTION:
URL:https://www.enms.nl/agendapunt/bovenbouw-naar-het-theater-2/
CATEGORIES:Jaarkalender
END:VEVENT
BEGIN:VEVENT
DTSTART;VALUE=DATE:20220425
DTEND;VALUE=DATE:20220507
DTSTAMP:20260421T045030
CREATED:20220324T135315Z
LAST-MODIFIED:20220324T135315Z
UID:2565-1650844800-1651881599@www.enms.nl
SUMMARY:Meivakantie
DESCRIPTION:
URL:https://www.enms.nl/agendapunt/meivakantie-5/
CATEGORIES:Jaarkalender
END:VEVENT
BEGIN:VEVENT
DTSTART;VALUE=DATE:20220421
DTEND;VALUE=DATE:20220422
DTSTAMP:20260421T045030
CREATED:20220324T135241Z
LAST-MODIFIED:20220324T135241Z
UID:2563-1650499200-1650585599@www.enms.nl
SUMMARY:Nieuwsbrief
DESCRIPTION:
URL:https://www.enms.nl/agendapunt/nieuwsbrief-21/
CATEGORIES:Jaarkalender
END:VEVENT
END:VCALENDAR