BEGIN:VCALENDAR
VERSION:2.0
PRODID:-//Eerste Nederlandse Montessorischool - ECPv6.8.2.1//NONSGML v1.0//EN
CALSCALE:GREGORIAN
METHOD:PUBLISH
X-WR-CALNAME:Eerste Nederlandse Montessorischool
X-ORIGINAL-URL:https://www.enms.nl
X-WR-CALDESC:Evenementen voor Eerste Nederlandse Montessorischool
REFRESH-INTERVAL;VALUE=DURATION:PT1H
X-Robots-Tag:noindex
X-PUBLISHED-TTL:PT1H
BEGIN:VTIMEZONE
TZID:Europe/Amsterdam
BEGIN:DAYLIGHT
TZOFFSETFROM:+0100
TZOFFSETTO:+0200
TZNAME:CEST
DTSTART:20220327T010000
END:DAYLIGHT
BEGIN:STANDARD
TZOFFSETFROM:+0200
TZOFFSETTO:+0100
TZNAME:CET
DTSTART:20221030T010000
END:STANDARD
BEGIN:DAYLIGHT
TZOFFSETFROM:+0100
TZOFFSETTO:+0200
TZNAME:CEST
DTSTART:20230326T010000
END:DAYLIGHT
BEGIN:STANDARD
TZOFFSETFROM:+0200
TZOFFSETTO:+0100
TZNAME:CET
DTSTART:20231029T010000
END:STANDARD
END:VTIMEZONE
BEGIN:VEVENT
DTSTART;VALUE=DATE:20230407
DTEND;VALUE=DATE:20230408
DTSTAMP:20260420T184907
CREATED:20230216T152445Z
LAST-MODIFIED:20230216T152445Z
UID:2894-1680825600-1680911999@www.enms.nl
SUMMARY:Goede Vrijdag
DESCRIPTION:
URL:https://www.enms.nl/agendapunt/goede-vrijdag/
CATEGORIES:Jaarkalender
END:VEVENT
BEGIN:VEVENT
DTSTART;VALUE=DATE:20230405
DTEND;VALUE=DATE:20230406
DTSTAMP:20260420T184907
CREATED:20230216T152411Z
LAST-MODIFIED:20230216T152411Z
UID:2892-1680652800-1680739199@www.enms.nl
SUMMARY:Paasviering
DESCRIPTION:
URL:https://www.enms.nl/agendapunt/paasviering-4/
CATEGORIES:Jaarkalender
END:VEVENT
BEGIN:VEVENT
DTSTART;TZID=Europe/Amsterdam:20230329T121500
DTEND;TZID=Europe/Amsterdam:20230329T123000
DTSTAMP:20260420T184907
CREATED:20230316T093819Z
LAST-MODIFIED:20230316T093819Z
UID:2915-1680092100-1680093000@www.enms.nl
SUMMARY:Ophaalmoment in de klas onderbouw
DESCRIPTION:
URL:https://www.enms.nl/agendapunt/ophaalmoment-in-de-klas-onderbouw-3/
CATEGORIES:Jaarkalender
END:VEVENT
BEGIN:VEVENT
DTSTART;TZID=Europe/Amsterdam:20230329T114500
DTEND;TZID=Europe/Amsterdam:20230329T121500
DTSTAMP:20260420T184907
CREATED:20230223T092127Z
LAST-MODIFIED:20230223T092127Z
UID:2900-1680090300-1680092100@www.enms.nl
SUMMARY:Museum in de klas midden- en bovenbouw
DESCRIPTION:
URL:https://www.enms.nl/agendapunt/museum-in-de-klas-midden-en-bovenbouw-2/
CATEGORIES:Jaarkalender
END:VEVENT
BEGIN:VEVENT
DTSTART;VALUE=DATE:20230323
DTEND;VALUE=DATE:20230324
DTSTAMP:20260420T184907
CREATED:20230216T152326Z
LAST-MODIFIED:20230216T152326Z
UID:2890-1679529600-1679615999@www.enms.nl
SUMMARY:Nieuwsbrief
DESCRIPTION:
URL:https://www.enms.nl/agendapunt/nieuwsbrief-28/
CATEGORIES:Jaarkalender
END:VEVENT
BEGIN:VEVENT
DTSTART;TZID=Europe/Amsterdam:20230315T113000
DTEND;TZID=Europe/Amsterdam:20230315T121500
DTSTAMP:20260420T184907
CREATED:20230223T092231Z
LAST-MODIFIED:20230223T093321Z
UID:2902-1678879800-1678882500@www.enms.nl
SUMMARY:Opa- en omadag bovenbouw
DESCRIPTION:
URL:https://www.enms.nl/agendapunt/opa-en-omadag-bovenbouw/
CATEGORIES:Jaarkalender
END:VEVENT
BEGIN:VEVENT
DTSTART;VALUE=DATE:20230314
DTEND;VALUE=DATE:20230315
DTSTAMP:20260420T184907
CREATED:20230112T083949Z
LAST-MODIFIED:20230112T083949Z
UID:2863-1678752000-1678838399@www.enms.nl
SUMMARY:Onderbouw naar het theater
DESCRIPTION:
URL:https://www.enms.nl/agendapunt/onderbouw-naar-het-theater/
CATEGORIES:Jaarkalender
END:VEVENT
BEGIN:VEVENT
DTSTART;VALUE=DATE:20230227
DTEND;VALUE=DATE:20230304
DTSTAMP:20260420T184907
CREATED:20230112T083853Z
LAST-MODIFIED:20230112T083853Z
UID:2861-1677456000-1677887999@www.enms.nl
SUMMARY:Voorjaarsvakantie
DESCRIPTION:
URL:https://www.enms.nl/agendapunt/voorjaarsvakantie-6/
CATEGORIES:Jaarkalender
END:VEVENT
BEGIN:VEVENT
DTSTART;VALUE=DATE:20230224
DTEND;VALUE=DATE:20230225
DTSTAMP:20260420T184907
CREATED:20230112T083811Z
LAST-MODIFIED:20230112T083811Z
UID:2859-1677196800-1677283199@www.enms.nl
SUMMARY:Margedag groep 1 t/m 8; Studiedag team ENMS
DESCRIPTION:
URL:https://www.enms.nl/agendapunt/margedag-groep-1-t-m-8-studiedag-team-enms/
CATEGORIES:Jaarkalender
END:VEVENT
BEGIN:VEVENT
DTSTART;TZID=Europe/Amsterdam:20230223T083000
DTEND;TZID=Europe/Amsterdam:20230223T093000
DTSTAMP:20260420T184907
CREATED:20221222T085823Z
LAST-MODIFIED:20230213T094551Z
UID:2854-1677141000-1677144600@www.enms.nl
SUMMARY:Montessori Café
DESCRIPTION:
URL:https://www.enms.nl/agendapunt/montessori-cafe-23/
CATEGORIES:Jaarkalender
END:VEVENT
BEGIN:VEVENT
DTSTART;VALUE=DATE:20230216
DTEND;VALUE=DATE:20230217
DTSTAMP:20260420T184907
CREATED:20230112T083717Z
LAST-MODIFIED:20230112T083717Z
UID:2857-1676505600-1676591999@www.enms.nl
SUMMARY:Nieuwsbrief
DESCRIPTION:
URL:https://www.enms.nl/agendapunt/nieuwsbrief-27/
CATEGORIES:Jaarkalender
END:VEVENT
BEGIN:VEVENT
DTSTART;VALUE=DATE:20230213
DTEND;VALUE=DATE:20230218
DTSTAMP:20260420T184907
CREATED:20221222T085746Z
LAST-MODIFIED:20221222T085746Z
UID:2852-1676246400-1676678399@www.enms.nl
SUMMARY:Ouder-kind gesprekken
DESCRIPTION:
URL:https://www.enms.nl/agendapunt/ouder-kind-gesprekken/
CATEGORIES:Jaarkalender
END:VEVENT
BEGIN:VEVENT
DTSTART;TZID=Europe/Amsterdam:20230210T141500
DTEND;TZID=Europe/Amsterdam:20230210T144500
DTSTAMP:20260420T184907
CREATED:20230119T151954Z
LAST-MODIFIED:20230119T151954Z
UID:2872-1676038500-1676040300@www.enms.nl
SUMMARY:Museum in de klas in alle groepen
DESCRIPTION:
URL:https://www.enms.nl/agendapunt/museum-in-de-klas-in-alle-groepen/
CATEGORIES:Jaarkalender
END:VEVENT
BEGIN:VEVENT
DTSTART;TZID=Europe/Amsterdam:20230208T090000
DTEND;TZID=Europe/Amsterdam:20230208T103000
DTSTAMP:20260420T184907
CREATED:20221222T085651Z
LAST-MODIFIED:20221222T085651Z
UID:2850-1675846800-1675852200@www.enms.nl
SUMMARY:Informatieochtend aspirant ouders
DESCRIPTION:
URL:https://www.enms.nl/agendapunt/informatieochtend-aspirant-ouders-19/
CATEGORIES:Jaarkalender
END:VEVENT
BEGIN:VEVENT
DTSTART;VALUE=DATE:20230125
DTEND;VALUE=DATE:20230126
DTSTAMP:20260420T184907
CREATED:20230119T151851Z
LAST-MODIFIED:20230119T151851Z
UID:2870-1674604800-1674691199@www.enms.nl
SUMMARY:Letterspeurtocht door de school met groep 3
DESCRIPTION:
URL:https://www.enms.nl/agendapunt/letterspeurtocht-door-de-school-met-groep-3/
CATEGORIES:Jaarkalender
END:VEVENT
BEGIN:VEVENT
DTSTART;VALUE=DATE:20230123
DTEND;VALUE=DATE:20230204
DTSTAMP:20260420T184907
CREATED:20230119T151802Z
LAST-MODIFIED:20230119T151802Z
UID:2868-1674432000-1675468799@www.enms.nl
SUMMARY:IEP toetsperiode
DESCRIPTION:
URL:https://www.enms.nl/agendapunt/iep-toetsperiode/
CATEGORIES:Jaarkalender
END:VEVENT
BEGIN:VEVENT
DTSTART;VALUE=DATE:20230119
DTEND;VALUE=DATE:20230120
DTSTAMP:20260420T184907
CREATED:20221208T141941Z
LAST-MODIFIED:20221208T141941Z
UID:2796-1674086400-1674172799@www.enms.nl
SUMMARY:Nieuwsbrief
DESCRIPTION:
URL:https://www.enms.nl/agendapunt/nieuwsbrief-26/
CATEGORIES:Jaarkalender
END:VEVENT
BEGIN:VEVENT
DTSTART;VALUE=DATE:20230119
DTEND;VALUE=DATE:20230120
DTSTAMP:20260420T184907
CREATED:20221208T141915Z
LAST-MODIFIED:20221208T141915Z
UID:2794-1674086400-1674172799@www.enms.nl
SUMMARY:Middenbouw naar het theater
DESCRIPTION:
URL:https://www.enms.nl/agendapunt/middenbouw-naar-het-theater-2/
CATEGORIES:Jaarkalender
END:VEVENT
BEGIN:VEVENT
DTSTART;VALUE=DATE:20221226
DTEND;VALUE=DATE:20230107
DTSTAMP:20260420T184907
CREATED:20221117T100149Z
LAST-MODIFIED:20221117T100149Z
UID:2785-1672012800-1673049599@www.enms.nl
SUMMARY:Kerstvakantie
DESCRIPTION:
URL:https://www.enms.nl/agendapunt/kerstvakantie-6/
CATEGORIES:Jaarkalender
END:VEVENT
BEGIN:VEVENT
DTSTART;VALUE=DATE:20221223
DTEND;VALUE=DATE:20221224
DTSTAMP:20260420T184907
CREATED:20221117T100103Z
LAST-MODIFIED:20221117T100103Z
UID:2783-1671753600-1671839999@www.enms.nl
SUMMARY:Kinderen om 12 uur vrij
DESCRIPTION:
URL:https://www.enms.nl/agendapunt/kinderen-om-12-uur-vrij/
CATEGORIES:Jaarkalender
END:VEVENT
BEGIN:VEVENT
DTSTART;VALUE=DATE:20221222
DTEND;VALUE=DATE:20221223
DTSTAMP:20260420T184907
CREATED:20221117T100037Z
LAST-MODIFIED:20221208T142055Z
UID:2781-1671667200-1671753599@www.enms.nl
SUMMARY:Viering kerstavond; kinderen om 12 uur vrij
DESCRIPTION:
URL:https://www.enms.nl/agendapunt/kerstdiner-kinderen-om-12-uur-vrij/
CATEGORIES:Jaarkalender
END:VEVENT
BEGIN:VEVENT
DTSTART;TZID=Europe/Amsterdam:20221215T141500
DTEND;TZID=Europe/Amsterdam:20221215T144500
DTSTAMP:20260420T184907
CREATED:20221117T095944Z
LAST-MODIFIED:20221117T095944Z
UID:2779-1671113700-1671115500@www.enms.nl
SUMMARY:Museum in de klas midden- en bovenbouw
DESCRIPTION:
URL:https://www.enms.nl/agendapunt/museum-in-de-klas-midden-en-bovenbouw/
CATEGORIES:Jaarkalender
END:VEVENT
BEGIN:VEVENT
DTSTART;VALUE=DATE:20221212
DTEND;VALUE=DATE:20221214
DTSTAMP:20260420T184907
CREATED:20221110T135435Z
LAST-MODIFIED:20221110T135435Z
UID:2773-1670803200-1670975999@www.enms.nl
SUMMARY:VO adviesgesprekken groep 8
DESCRIPTION:
URL:https://www.enms.nl/agendapunt/vo-adviesgesprekken-groep-8-3/
CATEGORIES:Jaarkalender
END:VEVENT
BEGIN:VEVENT
DTSTART;VALUE=DATE:20221208
DTEND;VALUE=DATE:20221209
DTSTAMP:20260420T184907
CREATED:20221103T083657Z
LAST-MODIFIED:20221103T083657Z
UID:2768-1670457600-1670543999@www.enms.nl
SUMMARY:Nieuwsbrief
DESCRIPTION:
URL:https://www.enms.nl/agendapunt/nieuwsbrief-25/
CATEGORIES:Jaarkalender
END:VEVENT
BEGIN:VEVENT
DTSTART;VALUE=DATE:20221205
DTEND;VALUE=DATE:20221206
DTSTAMP:20260420T184907
CREATED:20221103T083534Z
LAST-MODIFIED:20221103T083534Z
UID:2766-1670198400-1670284799@www.enms.nl
SUMMARY:Sinterklaasviering; 12.00 uur vrij
DESCRIPTION:
URL:https://www.enms.nl/agendapunt/sinterklaasviering-12-00-uur-vrij/
CATEGORIES:Jaarkalender
END:VEVENT
BEGIN:VEVENT
DTSTART;VALUE=DATE:20221129
DTEND;VALUE=DATE:20221130
DTSTAMP:20260420T184907
CREATED:20221103T083442Z
LAST-MODIFIED:20221103T083442Z
UID:2764-1669680000-1669766399@www.enms.nl
SUMMARY:Info VO ouders groep 8
DESCRIPTION:
URL:https://www.enms.nl/agendapunt/info-vo-ouders-groep-8-2/
CATEGORIES:Jaarkalender
END:VEVENT
BEGIN:VEVENT
DTSTART;VALUE=DATE:20221121
DTEND;VALUE=DATE:20221126
DTSTAMP:20260420T184907
CREATED:20221020T101611Z
LAST-MODIFIED:20221020T101611Z
UID:2754-1668988800-1669420799@www.enms.nl
SUMMARY:Verslagweek
DESCRIPTION:
URL:https://www.enms.nl/agendapunt/verslagweek-10/
CATEGORIES:Jaarkalender
END:VEVENT
BEGIN:VEVENT
DTSTART;TZID=Europe/Amsterdam:20221116T090000
DTEND;TZID=Europe/Amsterdam:20221116T103000
DTSTAMP:20260420T184907
CREATED:20221020T101518Z
LAST-MODIFIED:20221020T101518Z
UID:2752-1668589200-1668594600@www.enms.nl
SUMMARY:Informatieochtend aspirant ouders
DESCRIPTION:
URL:https://www.enms.nl/agendapunt/informatieochtend-aspirant-ouders-18/
CATEGORIES:Jaarkalender
END:VEVENT
BEGIN:VEVENT
DTSTART;VALUE=DATE:20221114
DTEND;VALUE=DATE:20221115
DTSTAMP:20260420T184907
CREATED:20221020T101442Z
LAST-MODIFIED:20221020T101442Z
UID:2750-1668384000-1668470399@www.enms.nl
SUMMARY:Bovenbouw naar het theater
DESCRIPTION:
URL:https://www.enms.nl/agendapunt/bovenbouw-naar-het-theater-3/
CATEGORIES:Jaarkalender
END:VEVENT
BEGIN:VEVENT
DTSTART;TZID=Europe/Amsterdam:20221110T190000
DTEND;TZID=Europe/Amsterdam:20221110T203000
DTSTAMP:20260420T184907
CREATED:20221020T101402Z
LAST-MODIFIED:20221020T101402Z
UID:2748-1668106800-1668112200@www.enms.nl
SUMMARY:Montessori ouderavond 3
DESCRIPTION:
URL:https://www.enms.nl/agendapunt/montessori-ouderavond-3-2/
CATEGORIES:Jaarkalender
END:VEVENT
END:VCALENDAR