BEGIN:VCALENDAR
VERSION:2.0
PRODID:-//Eerste Nederlandse Montessorischool - ECPv6.8.2.1//NONSGML v1.0//EN
CALSCALE:GREGORIAN
METHOD:PUBLISH
X-WR-CALNAME:Eerste Nederlandse Montessorischool
X-ORIGINAL-URL:https://www.enms.nl
X-WR-CALDESC:Evenementen voor Eerste Nederlandse Montessorischool
REFRESH-INTERVAL;VALUE=DURATION:PT1H
X-Robots-Tag:noindex
X-PUBLISHED-TTL:PT1H
BEGIN:VTIMEZONE
TZID:Europe/Amsterdam
BEGIN:DAYLIGHT
TZOFFSETFROM:+0100
TZOFFSETTO:+0200
TZNAME:CEST
DTSTART:20230326T010000
END:DAYLIGHT
BEGIN:STANDARD
TZOFFSETFROM:+0200
TZOFFSETTO:+0100
TZNAME:CET
DTSTART:20231029T010000
END:STANDARD
END:VTIMEZONE
BEGIN:VEVENT
DTSTART;VALUE=DATE:20230619
DTEND;VALUE=DATE:20230624
DTSTAMP:20260420T141233
CREATED:20230525T075419Z
LAST-MODIFIED:20230525T075419Z
UID:2978-1687132800-1687564799@www.enms.nl
SUMMARY:Werkweek Wilhelminaoord groep 7 en 8
DESCRIPTION:
URL:https://www.enms.nl/agendapunt/werkweek-wilhelminaoord-groep-7-en-8-2/
CATEGORIES:Jaarkalender
END:VEVENT
BEGIN:VEVENT
DTSTART;TZID=Europe/Amsterdam:20230614T114500
DTEND;TZID=Europe/Amsterdam:20230614T121500
DTSTAMP:20260420T141233
CREATED:20230601T140519Z
LAST-MODIFIED:20230601T140519Z
UID:2993-1686743100-1686744900@www.enms.nl
SUMMARY:Museum in de klas middenbouw
DESCRIPTION:
URL:https://www.enms.nl/agendapunt/museum-in-de-klas-middenbouw/
CATEGORIES:Jaarkalender
END:VEVENT
BEGIN:VEVENT
DTSTART;VALUE=DATE:20230608
DTEND;VALUE=DATE:20230609
DTSTAMP:20260420T141233
CREATED:20230525T075246Z
LAST-MODIFIED:20230525T075334Z
UID:2974-1686182400-1686268799@www.enms.nl
SUMMARY:Formatie en groepsindeling 2023-2024 bekend
DESCRIPTION:
URL:https://www.enms.nl/agendapunt/formatie-en-groepsindeling-bekend-2/
CATEGORIES:Jaarkalender
END:VEVENT
BEGIN:VEVENT
DTSTART;VALUE=DATE:20230601
DTEND;VALUE=DATE:20230602
DTSTAMP:20260420T141233
CREATED:20230420T142839Z
LAST-MODIFIED:20230420T142839Z
UID:2965-1685577600-1685663999@www.enms.nl
SUMMARY:Nieuwsbrief
DESCRIPTION:
URL:https://www.enms.nl/agendapunt/nieuwsbrief-30/
CATEGORIES:Jaarkalender
END:VEVENT
BEGIN:VEVENT
DTSTART;TZID=Europe/Amsterdam:20230531T121500
DTEND;TZID=Europe/Amsterdam:20230531T123000
DTSTAMP:20260420T141233
CREATED:20230420T142812Z
LAST-MODIFIED:20230420T142812Z
UID:2963-1685535300-1685536200@www.enms.nl
SUMMARY:Ophaalmoment in de klas onderbouw
DESCRIPTION:
URL:https://www.enms.nl/agendapunt/ophaalmoment-in-de-klas-onderbouw-4/
CATEGORIES:Jaarkalender
END:VEVENT
BEGIN:VEVENT
DTSTART;TZID=Europe/Amsterdam:20230530T144500
DTEND;TZID=Europe/Amsterdam:20230530T150000
DTSTAMP:20260420T141233
CREATED:20230420T142733Z
LAST-MODIFIED:20230420T142733Z
UID:2961-1685457900-1685458800@www.enms.nl
SUMMARY:Ophaalmoment in de klas middenbouw
DESCRIPTION:
URL:https://www.enms.nl/agendapunt/ophaalmoment-in-de-klas-middenbouw-3/
CATEGORIES:Jaarkalender
END:VEVENT
BEGIN:VEVENT
DTSTART;VALUE=DATE:20230529
DTEND;VALUE=DATE:20230530
DTSTAMP:20260420T141233
CREATED:20230406T090519Z
LAST-MODIFIED:20230406T090519Z
UID:2948-1685318400-1685404799@www.enms.nl
SUMMARY:Tweede Pinksterdag
DESCRIPTION:
URL:https://www.enms.nl/agendapunt/tweede-pinksterdag-4/
CATEGORIES:Jaarkalender
END:VEVENT
BEGIN:VEVENT
DTSTART;TZID=Europe/Amsterdam:20230526T144500
DTEND;TZID=Europe/Amsterdam:20230526T150000
DTSTAMP:20260420T141233
CREATED:20230420T142637Z
LAST-MODIFIED:20230420T142637Z
UID:2959-1685112300-1685113200@www.enms.nl
SUMMARY:Ophaalmoment in de klas bovenbouw
DESCRIPTION:
URL:https://www.enms.nl/agendapunt/ophaalmoment-in-de-klas-bovenbouw-3/
CATEGORIES:Jaarkalender
END:VEVENT
BEGIN:VEVENT
DTSTART;TZID=Europe/Amsterdam:20230526T083000
DTEND;TZID=Europe/Amsterdam:20230526T093000
DTSTAMP:20260420T141233
CREATED:20230406T090441Z
LAST-MODIFIED:20230406T090441Z
UID:2946-1685089800-1685093400@www.enms.nl
SUMMARY:Montessori Café
DESCRIPTION:
URL:https://www.enms.nl/agendapunt/montessori-cafe-24/
CATEGORIES:Jaarkalender
END:VEVENT
BEGIN:VEVENT
DTSTART;TZID=Europe/Amsterdam:20230525T140000
DTEND;TZID=Europe/Amsterdam:20230525T144500
DTSTAMP:20260420T141233
CREATED:20230406T090357Z
LAST-MODIFIED:20230406T090357Z
UID:2944-1685023200-1685025900@www.enms.nl
SUMMARY:Opa en oma dag onderbouw
DESCRIPTION:
URL:https://www.enms.nl/agendapunt/opa-en-oma-dag-onderbouw/
CATEGORIES:Jaarkalender
END:VEVENT
BEGIN:VEVENT
DTSTART;TZID=Europe/Amsterdam:20230524T090000
DTEND;TZID=Europe/Amsterdam:20230524T103000
DTSTAMP:20260420T141233
CREATED:20230406T090305Z
LAST-MODIFIED:20230406T090305Z
UID:2942-1684918800-1684924200@www.enms.nl
SUMMARY:Informatieochtend aspirant ouders
DESCRIPTION:
URL:https://www.enms.nl/agendapunt/informatieochtend-aspirant-ouders-20/
CATEGORIES:Jaarkalender
END:VEVENT
BEGIN:VEVENT
DTSTART;VALUE=DATE:20230518
DTEND;VALUE=DATE:20230522
DTSTAMP:20260420T141233
CREATED:20230406T090207Z
LAST-MODIFIED:20230406T090207Z
UID:2940-1684368000-1684713599@www.enms.nl
SUMMARY:Hemelvaartweekend
DESCRIPTION:
URL:https://www.enms.nl/agendapunt/hemelvaartweekend-5/
CATEGORIES:Jaarkalender
END:VEVENT
BEGIN:VEVENT
DTSTART;VALUE=DATE:20230517
DTEND;VALUE=DATE:20230518
DTSTAMP:20260420T141233
CREATED:20230406T090116Z
LAST-MODIFIED:20230406T090116Z
UID:2938-1684281600-1684367999@www.enms.nl
SUMMARY:Margedag groep 1 t/m 8; Studiedag team
DESCRIPTION:
URL:https://www.enms.nl/agendapunt/margedag-groep-1-t-m-8-studiedag-team-10/
CATEGORIES:Jaarkalender
END:VEVENT
BEGIN:VEVENT
DTSTART;VALUE=DATE:20230424
DTEND;VALUE=DATE:20230506
DTSTAMP:20260420T141233
CREATED:20230316T094444Z
LAST-MODIFIED:20230316T094444Z
UID:2927-1682294400-1683331199@www.enms.nl
SUMMARY:Meivakantie
DESCRIPTION:
URL:https://www.enms.nl/agendapunt/meivakantie-6/
CATEGORIES:Jaarkalender
END:VEVENT
BEGIN:VEVENT
DTSTART;VALUE=DATE:20230421
DTEND;VALUE=DATE:20230422
DTSTAMP:20260420T141233
CREATED:20230316T094200Z
LAST-MODIFIED:20230316T094200Z
UID:2925-1682035200-1682121599@www.enms.nl
SUMMARY:Koningsspelen
DESCRIPTION:
URL:https://www.enms.nl/agendapunt/koningsspelen-4/
CATEGORIES:Jaarkalender
END:VEVENT
BEGIN:VEVENT
DTSTART;VALUE=DATE:20230420
DTEND;VALUE=DATE:20230421
DTSTAMP:20260420T141233
CREATED:20230316T094134Z
LAST-MODIFIED:20230316T094134Z
UID:2923-1681948800-1682035199@www.enms.nl
SUMMARY:Nieuwsbrief
DESCRIPTION:
URL:https://www.enms.nl/agendapunt/nieuwsbrief-29/
CATEGORIES:Jaarkalender
END:VEVENT
BEGIN:VEVENT
DTSTART;TZID=Europe/Amsterdam:20230419T114500
DTEND;TZID=Europe/Amsterdam:20230419T121500
DTSTAMP:20260420T141233
CREATED:20230316T094109Z
LAST-MODIFIED:20230316T094109Z
UID:2921-1681904700-1681906500@www.enms.nl
SUMMARY:Museum in de klas onderbouw
DESCRIPTION:
URL:https://www.enms.nl/agendapunt/museum-in-de-klas-onderbouw/
CATEGORIES:Jaarkalender
END:VEVENT
BEGIN:VEVENT
DTSTART;VALUE=DATE:20230418
DTEND;VALUE=DATE:20230420
DTSTAMP:20260420T141233
CREATED:20230316T093959Z
LAST-MODIFIED:20230316T093959Z
UID:2919-1681776000-1681948799@www.enms.nl
SUMMARY:IEP Eindtoets groep 8
DESCRIPTION:
URL:https://www.enms.nl/agendapunt/iep-eindtoets-groep-8-5/
CATEGORIES:Jaarkalender
END:VEVENT
BEGIN:VEVENT
DTSTART;TZID=Europe/Amsterdam:20230415T100000
DTEND;TZID=Europe/Amsterdam:20230415T130000
DTSTAMP:20260420T141233
CREATED:20230316T093915Z
LAST-MODIFIED:20230406T090705Z
UID:2917-1681552800-1681563600@www.enms.nl
SUMMARY:Tuinwerkdag
DESCRIPTION:
URL:https://www.enms.nl/agendapunt/tuinwerkdag/
CATEGORIES:Jaarkalender
END:VEVENT
BEGIN:VEVENT
DTSTART;VALUE=DATE:20230410
DTEND;VALUE=DATE:20230411
DTSTAMP:20260420T141233
CREATED:20230216T152521Z
LAST-MODIFIED:20230216T152521Z
UID:2896-1681084800-1681171199@www.enms.nl
SUMMARY:Tweede Paasdag
DESCRIPTION:
URL:https://www.enms.nl/agendapunt/tweede-paasdag-2/
CATEGORIES:Jaarkalender
END:VEVENT
BEGIN:VEVENT
DTSTART;VALUE=DATE:20230407
DTEND;VALUE=DATE:20230408
DTSTAMP:20260420T141233
CREATED:20230216T152445Z
LAST-MODIFIED:20230216T152445Z
UID:2894-1680825600-1680911999@www.enms.nl
SUMMARY:Goede Vrijdag
DESCRIPTION:
URL:https://www.enms.nl/agendapunt/goede-vrijdag/
CATEGORIES:Jaarkalender
END:VEVENT
BEGIN:VEVENT
DTSTART;VALUE=DATE:20230405
DTEND;VALUE=DATE:20230406
DTSTAMP:20260420T141233
CREATED:20230216T152411Z
LAST-MODIFIED:20230216T152411Z
UID:2892-1680652800-1680739199@www.enms.nl
SUMMARY:Paasviering
DESCRIPTION:
URL:https://www.enms.nl/agendapunt/paasviering-4/
CATEGORIES:Jaarkalender
END:VEVENT
BEGIN:VEVENT
DTSTART;TZID=Europe/Amsterdam:20230329T121500
DTEND;TZID=Europe/Amsterdam:20230329T123000
DTSTAMP:20260420T141233
CREATED:20230316T093819Z
LAST-MODIFIED:20230316T093819Z
UID:2915-1680092100-1680093000@www.enms.nl
SUMMARY:Ophaalmoment in de klas onderbouw
DESCRIPTION:
URL:https://www.enms.nl/agendapunt/ophaalmoment-in-de-klas-onderbouw-3/
CATEGORIES:Jaarkalender
END:VEVENT
BEGIN:VEVENT
DTSTART;TZID=Europe/Amsterdam:20230329T114500
DTEND;TZID=Europe/Amsterdam:20230329T121500
DTSTAMP:20260420T141233
CREATED:20230223T092127Z
LAST-MODIFIED:20230223T092127Z
UID:2900-1680090300-1680092100@www.enms.nl
SUMMARY:Museum in de klas midden- en bovenbouw
DESCRIPTION:
URL:https://www.enms.nl/agendapunt/museum-in-de-klas-midden-en-bovenbouw-2/
CATEGORIES:Jaarkalender
END:VEVENT
BEGIN:VEVENT
DTSTART;VALUE=DATE:20230323
DTEND;VALUE=DATE:20230324
DTSTAMP:20260420T141233
CREATED:20230216T152326Z
LAST-MODIFIED:20230216T152326Z
UID:2890-1679529600-1679615999@www.enms.nl
SUMMARY:Nieuwsbrief
DESCRIPTION:
URL:https://www.enms.nl/agendapunt/nieuwsbrief-28/
CATEGORIES:Jaarkalender
END:VEVENT
BEGIN:VEVENT
DTSTART;TZID=Europe/Amsterdam:20230315T113000
DTEND;TZID=Europe/Amsterdam:20230315T121500
DTSTAMP:20260420T141233
CREATED:20230223T092231Z
LAST-MODIFIED:20230223T093321Z
UID:2902-1678879800-1678882500@www.enms.nl
SUMMARY:Opa- en omadag bovenbouw
DESCRIPTION:
URL:https://www.enms.nl/agendapunt/opa-en-omadag-bovenbouw/
CATEGORIES:Jaarkalender
END:VEVENT
BEGIN:VEVENT
DTSTART;VALUE=DATE:20230314
DTEND;VALUE=DATE:20230315
DTSTAMP:20260420T141233
CREATED:20230112T083949Z
LAST-MODIFIED:20230112T083949Z
UID:2863-1678752000-1678838399@www.enms.nl
SUMMARY:Onderbouw naar het theater
DESCRIPTION:
URL:https://www.enms.nl/agendapunt/onderbouw-naar-het-theater/
CATEGORIES:Jaarkalender
END:VEVENT
BEGIN:VEVENT
DTSTART;VALUE=DATE:20230227
DTEND;VALUE=DATE:20230304
DTSTAMP:20260420T141233
CREATED:20230112T083853Z
LAST-MODIFIED:20230112T083853Z
UID:2861-1677456000-1677887999@www.enms.nl
SUMMARY:Voorjaarsvakantie
DESCRIPTION:
URL:https://www.enms.nl/agendapunt/voorjaarsvakantie-6/
CATEGORIES:Jaarkalender
END:VEVENT
BEGIN:VEVENT
DTSTART;VALUE=DATE:20230224
DTEND;VALUE=DATE:20230225
DTSTAMP:20260420T141233
CREATED:20230112T083811Z
LAST-MODIFIED:20230112T083811Z
UID:2859-1677196800-1677283199@www.enms.nl
SUMMARY:Margedag groep 1 t/m 8; Studiedag team ENMS
DESCRIPTION:
URL:https://www.enms.nl/agendapunt/margedag-groep-1-t-m-8-studiedag-team-enms/
CATEGORIES:Jaarkalender
END:VEVENT
BEGIN:VEVENT
DTSTART;TZID=Europe/Amsterdam:20230223T083000
DTEND;TZID=Europe/Amsterdam:20230223T093000
DTSTAMP:20260420T141233
CREATED:20221222T085823Z
LAST-MODIFIED:20230213T094551Z
UID:2854-1677141000-1677144600@www.enms.nl
SUMMARY:Montessori Café
DESCRIPTION:
URL:https://www.enms.nl/agendapunt/montessori-cafe-23/
CATEGORIES:Jaarkalender
END:VEVENT
END:VCALENDAR