BEGIN:VCALENDAR
VERSION:2.0
PRODID:-//Eerste Nederlandse Montessorischool - ECPv6.8.2.1//NONSGML v1.0//EN
CALSCALE:GREGORIAN
METHOD:PUBLISH
X-ORIGINAL-URL:https://www.enms.nl
X-WR-CALDESC:Evenementen voor Eerste Nederlandse Montessorischool
REFRESH-INTERVAL;VALUE=DURATION:PT1H
X-Robots-Tag:noindex
X-PUBLISHED-TTL:PT1H
BEGIN:VTIMEZONE
TZID:Europe/Amsterdam
BEGIN:DAYLIGHT
TZOFFSETFROM:+0100
TZOFFSETTO:+0200
TZNAME:CEST
DTSTART:20230326T010000
END:DAYLIGHT
BEGIN:STANDARD
TZOFFSETFROM:+0200
TZOFFSETTO:+0100
TZNAME:CET
DTSTART:20231029T010000
END:STANDARD
END:VTIMEZONE
BEGIN:VEVENT
DTSTART;VALUE=DATE:20231004
DTEND;VALUE=DATE:20231005
DTSTAMP:20260420T103028
CREATED:20230831T100142Z
LAST-MODIFIED:20230831T100142Z
UID:3055-1696377600-1696463999@www.enms.nl
SUMMARY:Start Kinderboekenweek
DESCRIPTION:
URL:https://www.enms.nl/agendapunt/start-kinderboekenweek-3/
CATEGORIES:Jaarkalender
END:VEVENT
BEGIN:VEVENT
DTSTART;TZID=Europe/Amsterdam:20230929T133000
DTEND;TZID=Europe/Amsterdam:20230929T144500
DTSTAMP:20260420T103028
CREATED:20230821T100217Z
LAST-MODIFIED:20230821T100217Z
UID:3031-1695994200-1695998700@www.enms.nl
SUMMARY:Opa en oma middag (alle bouwen)
DESCRIPTION:
URL:https://www.enms.nl/agendapunt/opa-en-oma-middag-alle-bouwen/
CATEGORIES:Jaarkalender
END:VEVENT
BEGIN:VEVENT
DTSTART;VALUE=DATE:20230919
DTEND;VALUE=DATE:20230920
DTSTAMP:20260420T103028
CREATED:20230821T100121Z
LAST-MODIFIED:20230821T100121Z
UID:3029-1695081600-1695167999@www.enms.nl
SUMMARY:Prinsjesdag (geen school)
DESCRIPTION:
URL:https://www.enms.nl/agendapunt/prinsjesdag-geen-school-6/
CATEGORIES:Jaarkalender
END:VEVENT
BEGIN:VEVENT
DTSTART;VALUE=DATE:20230918
DTEND;VALUE=DATE:20230919
DTSTAMP:20260420T103028
CREATED:20230821T100051Z
LAST-MODIFIED:20230821T100051Z
UID:3027-1694995200-1695081599@www.enms.nl
SUMMARY:Margedag groep 1 t/m 8; Studiedag team
DESCRIPTION:
URL:https://www.enms.nl/agendapunt/margedag-groep-1-t-m-8-studiedag-team-11/
CATEGORIES:Jaarkalender
END:VEVENT
BEGIN:VEVENT
DTSTART;TZID=Europe/Amsterdam:20230915T083000
DTEND;TZID=Europe/Amsterdam:20230915T093000
DTSTAMP:20260420T103028
CREATED:20230821T100020Z
LAST-MODIFIED:20230821T100020Z
UID:3025-1694766600-1694770200@www.enms.nl
SUMMARY:Montessori Café
DESCRIPTION:
URL:https://www.enms.nl/agendapunt/montessori-cafe-25/
CATEGORIES:Jaarkalender
END:VEVENT
BEGIN:VEVENT
DTSTART;VALUE=DATE:20230907
DTEND;VALUE=DATE:20230908
DTSTAMP:20260420T103028
CREATED:20230821T095942Z
LAST-MODIFIED:20230821T095942Z
UID:3023-1694044800-1694131199@www.enms.nl
SUMMARY:Nieuwsbrief
DESCRIPTION:
URL:https://www.enms.nl/agendapunt/nieuwsbrief-32/
CATEGORIES:Jaarkalender
END:VEVENT
BEGIN:VEVENT
DTSTART;TZID=Europe/Amsterdam:20230906T123000
DTEND;TZID=Europe/Amsterdam:20230906T133000
DTSTAMP:20260420T103028
CREATED:20230821T095826Z
LAST-MODIFIED:20230821T095826Z
UID:3019-1694003400-1694007000@www.enms.nl
SUMMARY:Informatiemiddag Veilig Leren Lezen
DESCRIPTION:
URL:https://www.enms.nl/agendapunt/informatiemiddag-veilig-leren-lezen/
CATEGORIES:Jaarkalender
END:VEVENT
BEGIN:VEVENT
DTSTART;VALUE=DATE:20230904
DTEND;VALUE=DATE:20230916
DTSTAMP:20260420T103028
CREATED:20230821T095916Z
LAST-MODIFIED:20230821T095916Z
UID:3021-1693785600-1694822399@www.enms.nl
SUMMARY:Gesprekken ouders groep 3 en 6
DESCRIPTION:
URL:https://www.enms.nl/agendapunt/gesprekken-ouders-groep-3-en-6/
CATEGORIES:Jaarkalender
END:VEVENT
BEGIN:VEVENT
DTSTART;TZID=Europe/Amsterdam:20230830T090000
DTEND;TZID=Europe/Amsterdam:20230830T103000
DTSTAMP:20260420T103028
CREATED:20230821T095734Z
LAST-MODIFIED:20230821T095734Z
UID:3017-1693386000-1693391400@www.enms.nl
SUMMARY:Informatieochtend aspirant ouders
DESCRIPTION:
URL:https://www.enms.nl/agendapunt/informatieochtend-aspirant-ouders-21/
CATEGORIES:Jaarkalender
END:VEVENT
BEGIN:VEVENT
DTSTART;VALUE=DATE:20230710
DTEND;VALUE=DATE:20230819
DTSTAMP:20260420T103028
CREATED:20230601T141047Z
LAST-MODIFIED:20230601T141047Z
UID:3006-1688947200-1692403199@www.enms.nl
SUMMARY:Zomervakantie
DESCRIPTION:
URL:https://www.enms.nl/agendapunt/zomervakantie-6/
CATEGORIES:Jaarkalender
END:VEVENT
BEGIN:VEVENT
DTSTART;VALUE=DATE:20230707
DTEND;VALUE=DATE:20230708
DTSTAMP:20260420T103028
CREATED:20230601T141010Z
LAST-MODIFIED:20230601T141010Z
UID:3004-1688688000-1688774399@www.enms.nl
SUMMARY:Laatste schooldag; 12 uur vrij
DESCRIPTION:
URL:https://www.enms.nl/agendapunt/laatste-schooldag-12-uur-vrij-2/
CATEGORIES:Jaarkalender
END:VEVENT
BEGIN:VEVENT
DTSTART;TZID=Europe/Amsterdam:20230705T121500
DTEND;TZID=Europe/Amsterdam:20230705T143000
DTSTAMP:20260420T103028
CREATED:20230601T140846Z
LAST-MODIFIED:20230601T140846Z
UID:3000-1688559300-1688567400@www.enms.nl
SUMMARY:Afscheid groep 2
DESCRIPTION:
URL:https://www.enms.nl/agendapunt/afscheid-groep-2/
CATEGORIES:Jaarkalender
END:VEVENT
BEGIN:VEVENT
DTSTART;VALUE=DATE:20230705
DTEND;VALUE=DATE:20230708
DTSTAMP:20260420T103028
CREATED:20230601T140919Z
LAST-MODIFIED:20230601T140919Z
UID:3002-1688515200-1688774399@www.enms.nl
SUMMARY:Groep 8 vrij
DESCRIPTION:
URL:https://www.enms.nl/agendapunt/groep-8-vrij-2/
CATEGORIES:Jaarkalender
END:VEVENT
BEGIN:VEVENT
DTSTART;TZID=Europe/Amsterdam:20230703T170000
DTEND;TZID=Europe/Amsterdam:20230703T183000
DTSTAMP:20260420T103028
CREATED:20230601T140801Z
LAST-MODIFIED:20230601T140801Z
UID:2998-1688403600-1688409000@www.enms.nl
SUMMARY:Presentatie eindwerk groep 8
DESCRIPTION:
URL:https://www.enms.nl/agendapunt/presentatie-eindwerk-groep-8-6/
CATEGORIES:Jaarkalender
END:VEVENT
BEGIN:VEVENT
DTSTART;TZID=Europe/Amsterdam:20230630T130000
DTEND;TZID=Europe/Amsterdam:20230630T150000
DTSTAMP:20260420T103028
CREATED:20230525T075837Z
LAST-MODIFIED:20230525T080025Z
UID:2988-1688130000-1688137200@www.enms.nl
SUMMARY:Zomerfeest
DESCRIPTION:
URL:https://www.enms.nl/agendapunt/zomerfeest-2/
CATEGORIES:Jaarkalender
END:VEVENT
BEGIN:VEVENT
DTSTART;VALUE=DATE:20230629
DTEND;VALUE=DATE:20230630
DTSTAMP:20260420T103028
CREATED:20230525T075702Z
LAST-MODIFIED:20230525T075702Z
UID:2986-1687996800-1688083199@www.enms.nl
SUMMARY:Nieuwsbrief
DESCRIPTION:
URL:https://www.enms.nl/agendapunt/nieuwsbrief-31/
CATEGORIES:Jaarkalender
END:VEVENT
BEGIN:VEVENT
DTSTART;TZID=Europe/Amsterdam:20230628T121500
DTEND;TZID=Europe/Amsterdam:20230628T143000
DTSTAMP:20260420T103028
CREATED:20230601T140700Z
LAST-MODIFIED:20230601T140700Z
UID:2996-1687954500-1687962600@www.enms.nl
SUMMARY:Afscheid groep 5
DESCRIPTION:
URL:https://www.enms.nl/agendapunt/afscheid-groep-5/
CATEGORIES:Jaarkalender
END:VEVENT
BEGIN:VEVENT
DTSTART;TZID=Europe/Amsterdam:20230628T114500
DTEND;TZID=Europe/Amsterdam:20230628T121500
DTSTAMP:20260420T103028
CREATED:20230525T075631Z
LAST-MODIFIED:20230601T140609Z
UID:2984-1687952700-1687954500@www.enms.nl
SUMMARY:Museum in de klas onder- en bovenbouw
DESCRIPTION:
URL:https://www.enms.nl/agendapunt/museum-in-de-klas-onderbouw-2/
CATEGORIES:Jaarkalender
END:VEVENT
BEGIN:VEVENT
DTSTART;VALUE=DATE:20230627
DTEND;VALUE=DATE:20230628
DTSTAMP:20260420T103028
CREATED:20230525T075531Z
LAST-MODIFIED:20230525T075531Z
UID:2982-1687824000-1687910399@www.enms.nl
SUMMARY:Musical groep 8
DESCRIPTION:
URL:https://www.enms.nl/agendapunt/musical-groep-8-4/
CATEGORIES:Jaarkalender
END:VEVENT
BEGIN:VEVENT
DTSTART;VALUE=DATE:20230626
DTEND;VALUE=DATE:20230630
DTSTAMP:20260420T103028
CREATED:20230525T075501Z
LAST-MODIFIED:20230525T075501Z
UID:2980-1687737600-1688083199@www.enms.nl
SUMMARY:Verslagweek (facultatief)
DESCRIPTION:
URL:https://www.enms.nl/agendapunt/verslagweek-facultatief-4/
CATEGORIES:Jaarkalender
END:VEVENT
BEGIN:VEVENT
DTSTART;VALUE=DATE:20230619
DTEND;VALUE=DATE:20230624
DTSTAMP:20260420T103028
CREATED:20230525T075419Z
LAST-MODIFIED:20230525T075419Z
UID:2978-1687132800-1687564799@www.enms.nl
SUMMARY:Werkweek Wilhelminaoord groep 7 en 8
DESCRIPTION:
URL:https://www.enms.nl/agendapunt/werkweek-wilhelminaoord-groep-7-en-8-2/
CATEGORIES:Jaarkalender
END:VEVENT
BEGIN:VEVENT
DTSTART;TZID=Europe/Amsterdam:20230614T114500
DTEND;TZID=Europe/Amsterdam:20230614T121500
DTSTAMP:20260420T103028
CREATED:20230601T140519Z
LAST-MODIFIED:20230601T140519Z
UID:2993-1686743100-1686744900@www.enms.nl
SUMMARY:Museum in de klas middenbouw
DESCRIPTION:
URL:https://www.enms.nl/agendapunt/museum-in-de-klas-middenbouw/
CATEGORIES:Jaarkalender
END:VEVENT
BEGIN:VEVENT
DTSTART;VALUE=DATE:20230608
DTEND;VALUE=DATE:20230609
DTSTAMP:20260420T103028
CREATED:20230525T075246Z
LAST-MODIFIED:20230525T075334Z
UID:2974-1686182400-1686268799@www.enms.nl
SUMMARY:Formatie en groepsindeling 2023-2024 bekend
DESCRIPTION:
URL:https://www.enms.nl/agendapunt/formatie-en-groepsindeling-bekend-2/
CATEGORIES:Jaarkalender
END:VEVENT
BEGIN:VEVENT
DTSTART;VALUE=DATE:20230601
DTEND;VALUE=DATE:20230602
DTSTAMP:20260420T103028
CREATED:20230420T142839Z
LAST-MODIFIED:20230420T142839Z
UID:2965-1685577600-1685663999@www.enms.nl
SUMMARY:Nieuwsbrief
DESCRIPTION:
URL:https://www.enms.nl/agendapunt/nieuwsbrief-30/
CATEGORIES:Jaarkalender
END:VEVENT
BEGIN:VEVENT
DTSTART;TZID=Europe/Amsterdam:20230531T121500
DTEND;TZID=Europe/Amsterdam:20230531T123000
DTSTAMP:20260420T103028
CREATED:20230420T142812Z
LAST-MODIFIED:20230420T142812Z
UID:2963-1685535300-1685536200@www.enms.nl
SUMMARY:Ophaalmoment in de klas onderbouw
DESCRIPTION:
URL:https://www.enms.nl/agendapunt/ophaalmoment-in-de-klas-onderbouw-4/
CATEGORIES:Jaarkalender
END:VEVENT
BEGIN:VEVENT
DTSTART;TZID=Europe/Amsterdam:20230530T144500
DTEND;TZID=Europe/Amsterdam:20230530T150000
DTSTAMP:20260420T103028
CREATED:20230420T142733Z
LAST-MODIFIED:20230420T142733Z
UID:2961-1685457900-1685458800@www.enms.nl
SUMMARY:Ophaalmoment in de klas middenbouw
DESCRIPTION:
URL:https://www.enms.nl/agendapunt/ophaalmoment-in-de-klas-middenbouw-3/
CATEGORIES:Jaarkalender
END:VEVENT
BEGIN:VEVENT
DTSTART;VALUE=DATE:20230529
DTEND;VALUE=DATE:20230530
DTSTAMP:20260420T103028
CREATED:20230406T090519Z
LAST-MODIFIED:20230406T090519Z
UID:2948-1685318400-1685404799@www.enms.nl
SUMMARY:Tweede Pinksterdag
DESCRIPTION:
URL:https://www.enms.nl/agendapunt/tweede-pinksterdag-4/
CATEGORIES:Jaarkalender
END:VEVENT
BEGIN:VEVENT
DTSTART;TZID=Europe/Amsterdam:20230526T144500
DTEND;TZID=Europe/Amsterdam:20230526T150000
DTSTAMP:20260420T103028
CREATED:20230420T142637Z
LAST-MODIFIED:20230420T142637Z
UID:2959-1685112300-1685113200@www.enms.nl
SUMMARY:Ophaalmoment in de klas bovenbouw
DESCRIPTION:
URL:https://www.enms.nl/agendapunt/ophaalmoment-in-de-klas-bovenbouw-3/
CATEGORIES:Jaarkalender
END:VEVENT
BEGIN:VEVENT
DTSTART;TZID=Europe/Amsterdam:20230526T083000
DTEND;TZID=Europe/Amsterdam:20230526T093000
DTSTAMP:20260420T103028
CREATED:20230406T090441Z
LAST-MODIFIED:20230406T090441Z
UID:2946-1685089800-1685093400@www.enms.nl
SUMMARY:Montessori Café
DESCRIPTION:
URL:https://www.enms.nl/agendapunt/montessori-cafe-24/
CATEGORIES:Jaarkalender
END:VEVENT
BEGIN:VEVENT
DTSTART;TZID=Europe/Amsterdam:20230525T140000
DTEND;TZID=Europe/Amsterdam:20230525T144500
DTSTAMP:20260420T103028
CREATED:20230406T090357Z
LAST-MODIFIED:20230406T090357Z
UID:2944-1685023200-1685025900@www.enms.nl
SUMMARY:Opa en oma dag onderbouw
DESCRIPTION:
URL:https://www.enms.nl/agendapunt/opa-en-oma-dag-onderbouw/
CATEGORIES:Jaarkalender
END:VEVENT
END:VCALENDAR